BEGIN:VCALENDAR
VERSION:2.0
PRODID:-//wp-events-plugin.com//7.2.3.1//EN
TZID:Europe/Amsterdam
X-WR-TIMEZONE:Europe/Amsterdam
BEGIN:VEVENT
UID:1884@duurzaam-ondernemen.nl
DTSTART;TZID=Europe/Amsterdam:20251201T130000
DTEND;TZID=Europe/Amsterdam:20251201T140000
DTSTAMP:20251027T155825Z
URL:https://www.duurzaam-ondernemen.nl/events/webinar-de-toekomst-van-co%e
 2%82%82-management-en-compensatie/
SUMMARY:Webinar: De toekomst van CO₂-management en -compensatie
DESCRIPTION:Klimaatdoelen en CO₂-beheer worden steeds belangrijker voor o
 rganisaties die toekomstbestendig willen zijn. Niet alleen vanwege de eise
 n uit het Klimaatakkoord van Parijs en het Nederlands Klimaatakkoord\, maa
 r ook om geloofwaardig en duurzaam te opereren.\n\nTijdens dit webinar nem
 en Kader en Green Earth je mee in de wereld van CO₂-reductie\, -mana
 gement en -compensatie. Je krijgt praktische inzichten en handvatten om jo
 uw organisatie te sturen richting een duurzamere en compliant toekomst.\n\
 nDe inhoud van dit webinar bestaat uit:\n\n 	De rol van CO₂-compensatie
  – Wat is de plaats van compensatie binnen het Parijs- en Nederlands Kl
 imaatakkoord en welke juridische kaders spelen hierbij een rol?\n 	Een sol
 ide basis: de CO₂-footprint – Waarom een accurate en volledige footpr
 int het startpunt is\, en hoe de tool van Green Earth dit proces ondersteu
 nt.\n 	Slim CO₂-management – Ontdek hoe de combinatie van Kader’s e
 xpertise in reductieplannen en GHG Protocol-compliance met Green Earth’s
  datagedreven platform zorgt voor continu inzicht en grip.\n 	De kracht va
 n data – Continu monitoren\, benchmarken met branchegenoten en betrouwb
 aar rapporteren.\n 	CO₂-compensatie in de praktijk – Wat houdt het in
 \, welke projecten zijn van waarde en wat levert het jouw organisatie conc
 reet op?\n\nAanmelden\nAanmelden is gratis. Je kunt het webinar volgen van
 af je computer\, tablet of telefoon. Kun je er onverwachts niet bij zijn? 
 Na afloop van het webinar\, ontvang je een link naar de ‘replay’\, zod
 at je het terug kunt kijken.
ATTACH;FMTTYPE=image/jpeg:https://www.duurzaam-ondernemen.nl/wordpress/wp-
 content/uploads/2025/10/Webinar-co2.png
CATEGORIES:Klimaat en Energie
LOCATION:Online webinar\,  \,  \, Nederland
GEO:52.132633;5.291266
X-APPLE-STRUCTURED-LOCATION;VALUE=URI;X-ADDRESS= \,  \, Nederland;X-APPLE-R
 ADIUS=100;X-TITLE=Online webinar:geo:52.132633,5.291266
END:VEVENT
BEGIN:VTIMEZONE
TZID:Europe/Amsterdam
X-LIC-LOCATION:Europe/Amsterdam
BEGIN:STANDARD
DTSTART:20251026T020000
TZOFFSETFROM:+0200
TZOFFSETTO:+0100
TZNAME:CET
END:STANDARD
END:VTIMEZONE
END:VCALENDAR