BEGIN:VCALENDAR
VERSION:2.0
PRODID:-//wp-events-plugin.com//7.2.3.1//EN
TZID:Europe/Amsterdam
X-WR-TIMEZONE:Europe/Amsterdam
BEGIN:VEVENT
UID:2045@duurzaam-ondernemen.nl
DTSTART;TZID=Europe/Amsterdam:20260408T120000
DTEND;TZID=Europe/Amsterdam:20260408T130000
DTSTAMP:20260330T065456Z
URL:https://www.duurzaam-ondernemen.nl/events/webinar-de-strategische-waar
 de-van-een-goed-duurzaamheidsverslag/
SUMMARY:Webinar 'De strategische waarde van een goed duurzaamheidsverslag'
DESCRIPTION:Ben je bezig met het schrijven van je duurzaamheidsverslag\, of
  begin je hier dit jaar voor het eerst aan? Vraag je je af hoe je jouw ver
 slag naar een hoger niveau tilt en echt meerwaarde biedt voor je duurzaamh
 eidsbeleid? Tijdens dit webinar nemen wij je mee in de belangrijkste ontwi
 kkelingen binnen duurzaamheidsrapportage.\n\nMet de duurzaamheidsverslagle
 gging specialisten van Schuttelaar &amp\; Partners bespreken we de laatste
  trends\, actuele rapportagestandaarden zoals de VSME en best practices om
  het maximale uit je duurzaamheidsverslag te halen\, van inhoud en structu
 ur tot geloofwaardigheid en strategische waarde.\n\nNa dit webinar heb je 
 benodigde inspiratie om jouw verslag naar een hoger niveau te tillen.\n\nM
 eld je nu aan en ontdek hoe je meer waarde uit je duurzaamheidsverslag haa
 lt.\n\nSprekers:\n\nCarla Kivits\, Strategisch adviseur ESG\, duurzaamheid
  &amp\; communicatie\n\nBregtje Noordhoek\, Adviseur ESG\, duurzaamheid &a
 mp\; communicatie\n\nNiels Groothedde\, Junior adviseur ESG &amp\; duurzaa
 mheid
ATTACH;FMTTYPE=image/jpeg:https://www.duurzaam-ondernemen.nl/wordpress/wp-
 content/uploads/2021/04/jaarverslagen-300x199-1.jpg
CATEGORIES:Verslaggeving &amp; Transparantie
LOCATION:Online webinar\,  \,  \, Nederland
GEO:52.132633;5.291266
X-APPLE-STRUCTURED-LOCATION;VALUE=URI;X-ADDRESS= \,  \, Nederland;X-APPLE-R
 ADIUS=100;X-TITLE=Online webinar:geo:52.132633,5.291266
END:VEVENT
BEGIN:VTIMEZONE
TZID:Europe/Amsterdam
X-LIC-LOCATION:Europe/Amsterdam
BEGIN:DAYLIGHT
DTSTART:20260329T030000
TZOFFSETFROM:+0100
TZOFFSETTO:+0200
TZNAME:CEST
END:DAYLIGHT
END:VTIMEZONE
END:VCALENDAR