BEGIN:VCALENDAR
VERSION:2.0
PRODID:-//wp-events-plugin.com//7.2.3.1//EN
TZID:Europe/Amsterdam
X-WR-TIMEZONE:Europe/Amsterdam
BEGIN:VEVENT
UID:2003@duurzaam-ondernemen.nl
DTSTART;TZID=Europe/Amsterdam:20260319T160000
DTEND;TZID=Europe/Amsterdam:20260319T173000
DTSTAMP:20260219T152208Z
URL:https://www.duurzaam-ondernemen.nl/events/webinar-csrd-update-the-dust
 -has-settled-time-to-steer-for-the-future/
SUMMARY:Webinar: CSRD update – ‘The dust has settled. Time to steer for
  the future’
DESCRIPTION:In the past few months\, we have seen significant developments 
 in the sustainability reporting space. The CSRD has finally been adopted\,
  establishing a clear scope that outlines who is required to report. The D
 raft Simplified ESRS have been published\, and they\, though not final\, i
 ndicate the direction for future reporting requirements. With the regulato
 ry landscape stabilizing and the dust settling\, now is the time to start 
 making plans\, to (re)calibrate or to pick up old plans and get the ball r
 olling.\n\nSubject\nKPMG is hosting the next webinar in our series” Upda
 te EU Omnibus Package”. The dust has settled and it is time to steer fo
 r the future. In this session\, we will have a roundtable conversation wit
 h KPMG experts and reporting entities to discuss a number of requirements 
 that might be complex to deal with\, and we will hear from practitioners w
 hat their actions are going forward and the reasons behind them.\nVera Mol
 l (Partner Sustainability Reporting) will lead the conversation on the fol
 lowing topics:\n\n\n 	What is the current status of regulatory development
 s (also highlighting several key requirements to be aware of)?\n 	Practiti
 oners will share their views on the following:\n\n 	What is going to be di
 fferent in your work this year (wave-1 company)?\n 	How can you create val
 ue out of sustainability reporting?\n 	Are you making use of the relief me
 asures? Why (not)?\n 	Are you making adjustments to the reporting scope\, 
 and if so\, why?\n 	What considerations are there for companies that are n
 ow no longer in scope\, for example in applying the VSME standard?\n\n\n\n
 We invite you to connect with us live\, bring your questions\, and partici
 pate in the discussion!\n\nSpeakers\nVera Moll\, hostPartner\, Sustainabil
 ity Reporting\, KPMG\nMarco FrikkeePartner\, Sustainability Reporting &amp
 \; Assurance\, KPMGWikash BansiPartner\, Sustaintability Reporting &amp\; 
 Assurance\, KPMG\nMore information/register
ATTACH;FMTTYPE=image/jpeg:https://www.duurzaam-ondernemen.nl/wordpress/wp-
 content/uploads/2026/02/dust.jpg
CATEGORIES:Verslaggeving &amp; Transparantie
LOCATION:Online webinar\,  \,  \, Nederland
GEO:52.132633;5.291266
X-APPLE-STRUCTURED-LOCATION;VALUE=URI;X-ADDRESS= \,  \, Nederland;X-APPLE-R
 ADIUS=100;X-TITLE=Online webinar:geo:52.132633,5.291266
END:VEVENT
BEGIN:VTIMEZONE
TZID:Europe/Amsterdam
X-LIC-LOCATION:Europe/Amsterdam
BEGIN:STANDARD
DTSTART:20251026T020000
TZOFFSETFROM:+0200
TZOFFSETTO:+0100
TZNAME:CET
END:STANDARD
END:VTIMEZONE
END:VCALENDAR