BEGIN:VCALENDAR
VERSION:2.0
PRODID:-//wp-events-plugin.com//7.2.3.1//EN
TZID:Europe/Amsterdam
X-WR-TIMEZONE:Europe/Amsterdam
BEGIN:VEVENT
UID:1325@duurzaam-ondernemen.nl
DTSTART;TZID=Europe/Amsterdam:20240618T160000
DTEND;TZID=Europe/Amsterdam:20240618T173000
DTSTAMP:20240423T125545Z
URL:https://www.duurzaam-ondernemen.nl/events/webinar-csrd-how-to-solidify
 -csrd-reporting-in-the-organization-a-practical-guide/
SUMMARY:Webinar 'CSRD: How to solidify CSRD reporting in the organization 
 – a practical guide'
DESCRIPTION:\n\n\n\n\nOn June 18\, KPMG will host the online webinar ‘How
  to solidify CSRD reporting in the organization – a practical guide’. 
 In this webinar\, you will gain the latest updates on regulatory developme
 nts. You will also gather practical learnings about moving from reporting 
 scope to embedding this into the reporting processes\, and what is needed 
 to doing this correctly.\nThis event is aimed to inform Finance Directors\
 , Controllers\, Finance Reporting Managers\, Internal Auditors\, Sustainab
 ility Managers\, Sustainability Reporting Managers\, Managers Financial Ac
 counting &amp\; Reporting\, Compliance Managers and ESG Managers. Please n
 ote that the session is most effective with a basic knowledge of the CSRD 
 and a familiarity with the structure of ISRS.\n\n\n\n\n\n\n\n\n\n\nSubject
 \n\nWe are nearing the end of Q1 of the first CSRD reporting year. The maj
 ority of large listed companies are in the midst of their implementation\,
  while many others are preparing themselves for their upcoming requirement
 s as per FY25.\nFor many companies\, the time is now to get the implementa
 tion right the first time: moving from your reporting scope to setting up 
 the necessary reporting structures\, definitions and processes\, is where 
 the rubber hits the road.\nIn this online session\, we will provide practi
 cal insights that focus on:\n\n\n 	What are the latest regulatory updates 
 around sustainability reporting\, both in Europe and beyond\, that impact 
 our reporting landscape?\n 	Getting the basics right: bringing non-financi
 al reporting on par with financial reporting:\n\n 	Non-financial reporting
  manual: why is this important\, and how to create/update such a manual?\n
  	What should processes and controls around sustainability data look like 
 and how do they develop over time?\n 	What is a sufficient level of IT sup
 port?\n\n\n 	How to report on qualitative information?\n\n 	Reporting on s
 trategy\, IRO management and targets.\n\n\n\nWe will also welcome an exter
 nal speaker to share their experiences on their first year of CSRD reporti
 ng.\n\n\n\n\n\n\nRegister for free
ATTACH;FMTTYPE=image/jpeg:https://www.duurzaam-ondernemen.nl/wordpress/wp-
 content/uploads/2024/04/unnamed-2024-04-22T153741.249.png
CATEGORIES:Verslaggeving &amp; Transparantie
LOCATION:Online webinar\,  \,  \, Nederland
GEO:52.132633;5.291266
X-APPLE-STRUCTURED-LOCATION;VALUE=URI;X-ADDRESS= \,  \, Nederland;X-APPLE-R
 ADIUS=100;X-TITLE=Online webinar:geo:52.132633,5.291266
END:VEVENT
BEGIN:VTIMEZONE
TZID:Europe/Amsterdam
X-LIC-LOCATION:Europe/Amsterdam
BEGIN:DAYLIGHT
DTSTART:20240331T030000
TZOFFSETFROM:+0100
TZOFFSETTO:+0200
TZNAME:CEST
END:DAYLIGHT
END:VTIMEZONE
END:VCALENDAR