BEGIN:VCALENDAR
VERSION:2.0
PRODID:-//wp-events-plugin.com//7.2.3.1//EN
TZID:Europe/Amsterdam
X-WR-TIMEZONE:Europe/Amsterdam
BEGIN:VEVENT
UID:1310@duurzaam-ondernemen.nl
DTSTART;TZID=Europe/Amsterdam:20240502T100000
DTEND;TZID=Europe/Amsterdam:20240502T110000
DTSTAMP:20240415T124310Z
URL:https://www.duurzaam-ondernemen.nl/events/webinar-csrd-challenges-and-
 strategies/
SUMMARY:Webinar: CSRD - Challenges and Strategies
DESCRIPTION:Neem deel aan dit gratis Engelstalige webinar over het dynamisc
 he landschap van duurzaamheidsrapportage door bedrijven onder de Corporate
  Social Responsibility Directive (CSRD) van de Europese Unie. Sinds de inv
 oering op 5 januari 2023 hebben bedrijven in de hele EU te maken met nieuw
 e rapportagecriteria en aangescherpte verplichtingen.\n\nSchrijf u in voor
  onze webinar om te leren hoe om te gaan met de CSRD.\nWat kunt u verwach
 ten tijdens het webinar:\n\n 	Met welke uitdagingen worden bedrijven momen
 teel geconfronteerd?\n 	Laatste updates van de CSRD sinds de implementatie
  ervan\n 	Inzichten in de rol van due diligence\n 	Wat zijn de volgende st
 appen met betrekking tot de CSRD?\n\nDit webinar wordt gepresenteerd in sa
 menwerking met het gerenommeerde GRC-adviesbureau Advisense.\n\nMeer infor
 matie/aanmelden
ATTACH;FMTTYPE=image/jpeg:https://www.duurzaam-ondernemen.nl/wordpress/wp-
 content/uploads/2024/04/Banner_WBR_-CSRD-Challenges-and-Strategies_1200x60
 0-copy.jpg
CATEGORIES:Verslaggeving &amp; Transparantie
LOCATION:Online webinar\,  \,  \, Nederland
GEO:52.132633;5.291266
X-APPLE-STRUCTURED-LOCATION;VALUE=URI;X-ADDRESS= \,  \, Nederland;X-APPLE-R
 ADIUS=100;X-TITLE=Online webinar:geo:52.132633,5.291266
END:VEVENT
BEGIN:VTIMEZONE
TZID:Europe/Amsterdam
X-LIC-LOCATION:Europe/Amsterdam
BEGIN:DAYLIGHT
DTSTART:20240331T030000
TZOFFSETFROM:+0100
TZOFFSETTO:+0200
TZNAME:CEST
END:DAYLIGHT
END:VTIMEZONE
END:VCALENDAR