BEGIN:VCALENDAR
VERSION:2.0
PRODID:-//wp-events-plugin.com//7.2.3.1//EN
TZID:Europe/Amsterdam
X-WR-TIMEZONE:Europe/Amsterdam
BEGIN:VEVENT
UID:1870@duurzaam-ondernemen.nl
DTSTART;TZID=Europe/Amsterdam:20251110T133000
DTEND;TZID=Europe/Amsterdam:20251110T150000
DTSTAMP:20251020T062245Z
URL:https://www.duurzaam-ondernemen.nl/events/webinar-consumentengedrag-en
 -circulaire-businessmodellen/
SUMMARY:Webinar Consumentengedrag en circulaire businessmodellen
DESCRIPTION:Circulair ondernemen groeit\, maar circulair gedrag is voor con
 sumenten nog lang niet de standaard. Consumenten maken hun keuze bijvoorbe
 eld op basis van gemak\, prijs of leveringssnelheid. Dit weegt voor veel c
 onsumenten nog zwaarder dan duurzaamheid. Als je circulair onderneemt - of
  dat overweegt - is dan ook de grote vraag: hoe bereik ik het brede publie
 k?\nHet onderzoek richt zich specifiek op de sectoren textiel\, meubels en
  elektronica dat in dit webinar wordt gepresenteerd door Duwtje en Copper8
 \, in opdracht van het ministerie van IenW\, laat zien welke prikkels éch
 t werken. Soms zit het verschil in kleine\, verrassende dingen: een frisse
  geur of een strakke presentatie in een kringloopwinkel blijken al te kunn
 en bepalen of een consument ‘ja’ zegt tegen een circulair aanbod. De 
 voorbeelden gaan over de sectoren textiel\, electronica en meubels. De alg
 emene lessen zijn nuttig voor iedereen.\nTijdens dit webinar:\n\n 	Geven w
 e inzicht in consumentengedrag en hoe circulair aanbod hierop kan inspelen
 \;\n\n\n 	Verkennen we de valkuilen en mogelijkheden van circulaire busine
 ssmodellen\;\n\n\n 	Krijg je concrete tips waar je direct mee aan de slag 
 kunt.\n\nDit webinar wordt georganiseerd voor partners van MVO Nederland\,
  VNO-NCW en MKB Nederland en Het Versnellingshuis.
ATTACH;FMTTYPE=image/jpeg:https://www.duurzaam-ondernemen.nl/wordpress/wp-
 content/uploads/2025/01/circulair-1.jpg
CATEGORIES:Circulaire economie
LOCATION:Online webinar\,  \,  \, Nederland
GEO:52.132633;5.291266
X-APPLE-STRUCTURED-LOCATION;VALUE=URI;X-ADDRESS= \,  \, Nederland;X-APPLE-R
 ADIUS=100;X-TITLE=Online webinar:geo:52.132633,5.291266
END:VEVENT
BEGIN:VTIMEZONE
TZID:Europe/Amsterdam
X-LIC-LOCATION:Europe/Amsterdam
BEGIN:STANDARD
DTSTART:20251026T020000
TZOFFSETFROM:+0200
TZOFFSETTO:+0100
TZNAME:CET
END:STANDARD
END:VTIMEZONE
END:VCALENDAR