BEGIN:VCALENDAR
VERSION:2.0
PRODID:-//wp-events-plugin.com//7.2.3.1//EN
TZID:Europe/Amsterdam
X-WR-TIMEZONE:Europe/Amsterdam
BEGIN:VEVENT
UID:2034@duurzaam-ondernemen.nl
DTSTART;TZID=Europe/Amsterdam:20260331T110000
DTEND;TZID=Europe/Amsterdam:20260331T120000
DTSTAMP:20260320T073443Z
URL:https://www.duurzaam-ondernemen.nl/events/webinar-combining-ppwr-eudr-
 key-insights-for-your-compliance-strategy/
SUMMARY:Webinar 'Combining PPWR & EUDR: Key insights for your compliance st
 rategy'
DESCRIPTION:\n\nPPWR en EUDR hebben meer gemeen dan de meeste compliance-te
 ams beseffen. Voor bedrijven die beide regelgevingen beheren\, ligt de uit
 daging niet in het begrijpen van elke afzonderlijke verordening – maar i
 n het identificeren waar processen\, leveranciersdata en documentatieverei
 sten overlappen\, en het bouwen van een compliance-aanpak die je werklast 
 niet verdubbelt.\n\nOp 31 maart om 11:00 CEST organiseert het sustainabili
 ty research team van Coolset een live sessie van 45 minuten over het combi
 neren van PPWR- en EUDR-complianceverplichtingen. Je verlaat de sessie met
  een helder beeld van waar de twee verordeningen elkaar kruisen\, welke pr
 ocessen en datastromen je voor beide kunt delen\, en hoe je je compliancep
 rogramma structureert om vooruit te blijven zonder dubbel werk.\n\nIn dit 
 webinar behandelen we:\n\n→ Waar PPWR en EUDR overlappen en hoe je gedee
 lde verplichtingen\, leveranciersdatavereisten en documentatie in kaart br
 engt voor beide verordeningen\n\n→ Hoe je leveranciersverzoeken en trace
 erbaarheidsprocessen zo inricht dat ze beide verordeningen bedienen zonder
  dubbele inspanning\n\n→ Hoe je klaar blijft voor EPR-rapportage\, inspe
 cties door toezichthouders en interne reviews naarmate deadlines naderen\n
 \nDeze sessie is relevant voor compliance managers\, regulatory affairs-le
 ads en supply chain-teams die PPWR- en EUDR-verplichtingen beheren in port
 folio's met meerdere leveranciers.\n\nKunt u niet live deelnemen? Registre
 er u dan toch\, wij sturen u de opname en de belangrijkste inzichten toe.\
 n\n\nRegistreer hier →
ATTACH;FMTTYPE=image/jpeg:https://www.duurzaam-ondernemen.nl/wordpress/wp-
 content/uploads/2026/03/ppwr-webinar.webp
CATEGORIES:Duurzaamheidsprofessionals,Verslaggeving &amp; Transparantie
LOCATION:Online webinar\,  \,  \, Nederland
GEO:52.132633;5.291266
X-APPLE-STRUCTURED-LOCATION;VALUE=URI;X-ADDRESS= \,  \, Nederland;X-APPLE-R
 ADIUS=100;X-TITLE=Online webinar:geo:52.132633,5.291266
END:VEVENT
BEGIN:VTIMEZONE
TZID:Europe/Amsterdam
X-LIC-LOCATION:Europe/Amsterdam
BEGIN:DAYLIGHT
DTSTART:20260329T030000
TZOFFSETFROM:+0100
TZOFFSETTO:+0200
TZNAME:CEST
END:DAYLIGHT
END:VTIMEZONE
END:VCALENDAR