BEGIN:VCALENDAR
VERSION:2.0
PRODID:-//wp-events-plugin.com//7.2.3.1//EN
TZID:Europe/Amsterdam
X-WR-TIMEZONE:Europe/Amsterdam
BEGIN:VEVENT
UID:1298@duurzaam-ondernemen.nl
DTSTART;TZID=Europe/Amsterdam:20240416T150000
DTEND;TZID=Europe/Amsterdam:20240416T160000
DTSTAMP:20240322T114514Z
URL:https://www.duurzaam-ondernemen.nl/events/webinar-co2-meten-in-de-logi
 stiek/
SUMMARY:Webinar 'CO2 Meten in de logistiek'
DESCRIPTION:Schrijf je in voor CO2 meten in de logistiek. Een webinar van U
 C Group en Visma Connect met Baks Logistiek. In dit webinar gaat het over 
 het meten van en rapporteren over CO2 uitstoot in de logistiek.\nOnderwerp
 en\nIn dit webinar bespreken we:\nHet meten van CO2 Emissies\nHet belang v
 an CO2 meten in de logistiek. Het rapporteren over CO2 in de logistiek en 
 waarom Baks Logistiek begonnen is met het meten van CO2 emissies.\nDe toek
 omst\nWaarom uiteindelijk  alle partijen in de logistiek dit ook zullen m
 oeten doen.\nHoe en waarom\nHoe en vooral waarom UC Group\, Visma Connect 
 en Baks Logistiek Loginex Carbon Intelligence hebben ontwikkeld.\nTranspor
 t en Brandstofdata\nHet verzamelen en registreren van transport en brandst
 of data.\n\nDe voordelen van Loginex:\n\n 	Het monitoren van CO2 emissie r
 eductie\,\n 	Samenwerken met klanten\,\n 	Meer efficiency\,\n 	CO2 op fact
 uur\n 	Inzicht in emissies op order en zending niveau\n\nGratis aanmelden
ATTACH;FMTTYPE=image/jpeg:https://www.duurzaam-ondernemen.nl/wordpress/wp-
 content/uploads/2024/03/weblog.png
CATEGORIES:Mobiliteit en Transport/Logistiek
LOCATION:Online webinar\,  \,  \, Nederland
GEO:52.132633;5.291266
X-APPLE-STRUCTURED-LOCATION;VALUE=URI;X-ADDRESS= \,  \, Nederland;X-APPLE-R
 ADIUS=100;X-TITLE=Online webinar:geo:52.132633,5.291266
END:VEVENT
BEGIN:VTIMEZONE
TZID:Europe/Amsterdam
X-LIC-LOCATION:Europe/Amsterdam
BEGIN:DAYLIGHT
DTSTART:20240331T030000
TZOFFSETFROM:+0100
TZOFFSETTO:+0200
TZNAME:CEST
END:DAYLIGHT
END:VTIMEZONE
END:VCALENDAR