BEGIN:VCALENDAR
VERSION:2.0
PRODID:-//wp-events-plugin.com//7.2.3.1//EN
TZID:Europe/Amsterdam
X-WR-TIMEZONE:Europe/Amsterdam
BEGIN:VEVENT
UID:1772@duurzaam-ondernemen.nl
DTSTART;TZID=Europe/Amsterdam:20250630T123000
DTEND;TZID=Europe/Amsterdam:20250630T133000
DTSTAMP:20250607T082259Z
URL:https://www.duurzaam-ondernemen.nl/events/webinar-circular-plastics-nl
 /
SUMMARY:Webinar Circular Plastics NL
DESCRIPTION:Op 30 juni organiseert Circular Plastics NL een webinar over ho
 e plastic in Nederland door verschillende sectoren stroomt\, waar het vas
 tloopt en wat er nodig is om meer recycling mogelijk te maken.\nDeze inzic
 hten komen uit hun recente onderzoek Navigating Volumes and Value Chains T
 owards Circularity. Dit Nederlandstalige webinar vindt plaats van 12:30 uu
 r tot 13:30 uur en is vrij toegankelijk voor geïnteresseerden uit de kuns
 tstofsector.\n\nPlasticstromen en knelpunten in beeld\nHet rapport brengt 
 in kaart hoe plasticvolumes door verschillende toepassingsketens - zoals 
 verpakkingen\, bouw en textiel - bewegen. Op basis van gegevens van Plast
 ics Europe en het ministerie van Infrastructuur en Waterstaat is geanalyse
 erd waar in de keten de grootste verliezen optreden en welke interventies 
 nodig zijn.\nAanmelden voor webinar\nHet rapport vormt een stevige basis v
 oor gerichte interventies in de Nederlandse kunststofketen. Tijdens het we
 binar op 30 juni worden deze uitdagingen verder besproken.\nOver Circular 
 Plastics NL\nCircular Plastics NL is een langlopend programma dat bedrijve
 n helpt om sneller werk te maken van circulair plastic. Het is onderdeel v
 an het Nationaal Groeifonds en ondersteunt met subsidies en kennisprojecte
 n die écht gericht zijn op knelpunten in de praktijk - zoals betere recyc
 lingtechnieken\, hergebruik van grondstoffen en samenwerking in de keten. 
 Meerdere chemiebedrijven zijn actief binnen het programma dat aan sluit b
 ij bestaande inspanningen rond circulaire kunststoffen. Zo ook verschillen
 de VNCI-leden zoals LyondellBasel en Sabic doen mee aan specifieke projec
 ten. De VNCI is partner van het programma.\nDownload het rapport en de dee
 p dives per waardeketen\nDeelnemen aan het webinar op 30 juni\, 12:30
ATTACH;FMTTYPE=image/jpeg:https://www.duurzaam-ondernemen.nl/wordpress/wp-
 content/uploads/2021/08/plasticafval.jpg
CATEGORIES:Circulaire economie
LOCATION:Online webinar\,  \,  \, Nederland
GEO:52.132633;5.291266
X-APPLE-STRUCTURED-LOCATION;VALUE=URI;X-ADDRESS= \,  \, Nederland;X-APPLE-R
 ADIUS=100;X-TITLE=Online webinar:geo:52.132633,5.291266
END:VEVENT
BEGIN:VTIMEZONE
TZID:Europe/Amsterdam
X-LIC-LOCATION:Europe/Amsterdam
BEGIN:DAYLIGHT
DTSTART:20250330T030000
TZOFFSETFROM:+0100
TZOFFSETTO:+0200
TZNAME:CEST
END:DAYLIGHT
END:VTIMEZONE
END:VCALENDAR