BEGIN:VCALENDAR
VERSION:2.0
PRODID:-//wp-events-plugin.com//7.2.3.1//EN
TZID:Europe/Amsterdam
X-WR-TIMEZONE:Europe/Amsterdam
BEGIN:VEVENT
UID:1679@duurzaam-ondernemen.nl
DTSTART;TZID=Europe/Amsterdam:20250513T160000
DTEND;TZID=Europe/Amsterdam:20250513T173000
DTSTAMP:20250328T090337Z
URL:https://www.duurzaam-ondernemen.nl/events/webinar-changing-tides-for-s
 ustainability-reporting/
SUMMARY:Webinar: Changing tides for Sustainability Reporting
DESCRIPTION:On 13 May 2025\, KPMG will host the webinar ‘Changing tides f
 or Sustainability Reporting – companies’ reporting strategies in an ev
 olving regulatory landscape’.\nIn the past months\, the regulatory lands
 cape on Sustainability Reporting has taken a sharp turn – and still a lo
 t of uncertainty remains. This poses both challenges and opportunities for
  companies. Whether companies already published their first CSRD report\, 
 are in the midst of the DMA process\, and/or are making up their minds how
  to proceed\, at some point a decision needs to be made on the roadmap and
  the desired end state.\nThis decision is not solely driven by regulatory 
 compliance. Companies also think about their strategy\, risk\, value creat
 ion and reputation.\n\nSubject\nDifferent perspectives exist among compani
 es\, as priorities are set differently by each management board. In order 
 to both learn from and inspire each other\, KPMG is hosting the interactiv
 e webinar “Changing tides for Sustainability Reporting – companies’ 
 reporting strategies in an evolving regulatory landscape” in which we un
 ite various speakers from small\, mid-size and large companies  to share 
 their views.\nVera Moll (Director Sustainability Reporting) will lead a co
 nversation with these companies about how to adapt to these evolving chang
 es. We will explore:\n\n\n 	what were the internal responses to the Omnibu
 s proposal\;\n 	whether changes have been made to the sustainability repor
 ting strategy\, and what were the key considerations for these changes\;\n
  	what is the value of voluntary sustainability reporting\, and what do co
 mpanies do to create or leverage this value.\n\nWe kindly invite you to co
 nnect live with us and ask your questions to the panel!\n\nSpeakers\nVera 
 Moll\, HostDirector\, Sustainability Reporting\, KPMG\nMarco FrikkeePartne
 r\, Sustainability Reporting\, KPMG\nOther (external) speakers will be ann
 ounced later\nMore information/registration
ATTACH;FMTTYPE=image/jpeg:https://www.duurzaam-ondernemen.nl/wordpress/wp-
 content/uploads/2025/03/unnamed-2025-03-28T100312.202.png
CATEGORIES:Verslaggeving &amp; Transparantie
LOCATION:Online webinar\,  \,  \, Nederland
GEO:52.132633;5.291266
X-APPLE-STRUCTURED-LOCATION;VALUE=URI;X-ADDRESS= \,  \, Nederland;X-APPLE-R
 ADIUS=100;X-TITLE=Online webinar:geo:52.132633,5.291266
END:VEVENT
BEGIN:VTIMEZONE
TZID:Europe/Amsterdam
X-LIC-LOCATION:Europe/Amsterdam
BEGIN:DAYLIGHT
DTSTART:20250330T030000
TZOFFSETFROM:+0100
TZOFFSETTO:+0200
TZNAME:CEST
END:DAYLIGHT
END:VTIMEZONE
END:VCALENDAR