BEGIN:VCALENDAR
VERSION:2.0
PRODID:-//wp-events-plugin.com//7.2.3.1//EN
TZID:Europe/Amsterdam
X-WR-TIMEZONE:Europe/Amsterdam
BEGIN:VEVENT
UID:1868@duurzaam-ondernemen.nl
DTSTART;TZID=Europe/Amsterdam:20251113T110000
DTEND;TZID=Europe/Amsterdam:20251113T120000
DTSTAMP:20251017T133222Z
URL:https://www.duurzaam-ondernemen.nl/events/webinar-carbon-accounting-10
 1-how-to-build-a-reliable-ghg-inventory/
SUMMARY:Webinar: Carbon accounting 101: How to build a reliable GHG invento
 ry
DESCRIPTION:Op Donderdag 13\, November om 11:00 AM organiseert Coolset een
  live sessie van 45 minuten over een praktische handleiding voor het berek
 enen van Scope 1-3-gegevens.\n\nCO2-accounting klinkt misschien technisch\
 , maar het is eigenlijk heel eenvoudig als je het eenmaal begrijpt. In dez
 e hands-on sessie krijg je praktische\, bruikbare methoden die je direct k
 unt toepassen\, zodat je de rapportage voor frameworks zoals CSRD\, SBTi e
 n/of EcoVadis kunt verbeteren.\n\nWat je leert:\n\n→ Hoe u uw broeikasga
 sinventarisatie kunt bepalen en samenstellen (scope 1\, 2 en 3)\n\n→ Wel
 ke gegevensbronnen\, aannames en emissiefactoren u moet gebruiken en hoe u
  deze kunt valideren\n\n→ Hoe u uw boekhouding kunt koppelen aan CSRD\, 
 SBTi\, EcoVadis en andere frameworks\n\n→ Praktische vervolgstappen voor
  het opzetten\, verbeteren en institutionaliseren van uw workflows voor ko
 olstofboekhouding\n\nReserveer hier uw plek
ATTACH;FMTTYPE=image/jpeg:https://www.duurzaam-ondernemen.nl/wordpress/wp-
 content/uploads/2025/10/Carbon_accounting_101.webp
CATEGORIES:Klimaat en Energie,Verslaggeving &amp; Transparantie
LOCATION:Online webinar\,  \,  \, Nederland
GEO:52.132633;5.291266
X-APPLE-STRUCTURED-LOCATION;VALUE=URI;X-ADDRESS= \,  \, Nederland;X-APPLE-R
 ADIUS=100;X-TITLE=Online webinar:geo:52.132633,5.291266
END:VEVENT
BEGIN:VTIMEZONE
TZID:Europe/Amsterdam
X-LIC-LOCATION:Europe/Amsterdam
BEGIN:STANDARD
DTSTART:20251026T020000
TZOFFSETFROM:+0200
TZOFFSETTO:+0100
TZNAME:CET
END:STANDARD
END:VTIMEZONE
END:VCALENDAR