BEGIN:VCALENDAR
VERSION:2.0
PRODID:-//wp-events-plugin.com//7.2.3.1//EN
TZID:Europe/Amsterdam
X-WR-TIMEZONE:Europe/Amsterdam
BEGIN:VEVENT
UID:1943@duurzaam-ondernemen.nl
DTSTART;TZID=Europe/Amsterdam:20260115T110000
DTEND;TZID=Europe/Amsterdam:20260115T120000
DTSTAMP:20260105T172155Z
URL:https://www.duurzaam-ondernemen.nl/events/webinar-calculating-cbam-cos
 ts-eu-default-values-vs-supplier-data-and-their-cost-impact/
SUMMARY:Webinar 'Calculating CBAM costs: EU default values vs supplier data
  and their cost impact'
DESCRIPTION:Veel CBAM-importeurs vertrouwen nog steeds op de standaard emis
 siewaarden van de EU voor hun rapportage. Operationeel werkt dat prima\, m
 aar het brengt extra kosten met zich mee. Hoeveel van die kosten kun je da
 adwerkelijk vermijden? En wanneer is het de moeite waard om te investeren 
 in leverancierspecifieke gegevens in plaats van standaardwaarden te accept
 eren?\n\nOp donderdag 15 januari om 11:00 CET organiseren duurzaamheidsond
 erzoekers van Coolset een live sessie van 45 minuten. Daarin leggen we uit
  waar de EU-standaardwaarden je CBAM-blootstelling verhogen\, wat er in de
  praktijk nodig is om ze te vervangen door leverancierspecifieke gegevens\
 , en hoe je bepaalt of die inspanning financieel gerechtvaardigd is.\nWat 
 je leert:\n→ Hoe de EU-standaardwaarden worden berekend en waarom ze e
 missies en CBAM-kosten vaak overschatten\n→ Welke emissiegegevens je va
 n leveranciers nodig hebt om standaardwaarden te vervangen\, waar teams v
 astlopen en hoe je data documenteert voor compliance\n→ Hoe je leveranc
 iers en productlijnen identificeert waar betere gegevens de grootste fina
 nciële impact hebben\n→ Hoe je CBAM-rapportage-inputs vertaalt naar vo
 orspelbare\, controleerbare kosten\, nu én tijdens de overgangsperiode 20
 26–2034\n\nDeze sessie is relevant voor importeurs van ijzer en staal\, 
 aluminium\, cement\, meststoffen\, elektriciteit en waterstof die meer con
 trole willen over hun CBAM-kosten\, in plaats van te vertrouwen op worst-c
 ase aannames.\n\nReserveer je plek
ATTACH;FMTTYPE=image/jpeg:https://www.duurzaam-ondernemen.nl/wordpress/wp-
 content/uploads/2026/01/cbam_coolset.png
CATEGORIES:Klimaat en Energie,Verslaggeving &amp; Transparantie
LOCATION:Online webinar\,  \,  \, Nederland
GEO:52.132633;5.291266
X-APPLE-STRUCTURED-LOCATION;VALUE=URI;X-ADDRESS= \,  \, Nederland;X-APPLE-R
 ADIUS=100;X-TITLE=Online webinar:geo:52.132633,5.291266
END:VEVENT
BEGIN:VTIMEZONE
TZID:Europe/Amsterdam
X-LIC-LOCATION:Europe/Amsterdam
BEGIN:STANDARD
DTSTART:20251026T020000
TZOFFSETFROM:+0200
TZOFFSETTO:+0100
TZNAME:CET
END:STANDARD
END:VTIMEZONE
END:VCALENDAR