BEGIN:VCALENDAR
VERSION:2.0
PRODID:-//wp-events-plugin.com//7.2.3.1//EN
TZID:Europe/Amsterdam
X-WR-TIMEZONE:Europe/Amsterdam
BEGIN:VEVENT
UID:2057@duurzaam-ondernemen.nl
DTSTART;TZID=Europe/Amsterdam:20260416T123000
DTEND;TZID=Europe/Amsterdam:20260416T133000
DTSTAMP:20260403T125615Z
URL:https://www.duurzaam-ondernemen.nl/events/webinar-b-corp-ai-agent/
SUMMARY:Webinar 'B Corp AI Agent'
DESCRIPTION:Preparing for B Corp (re)certification often means working thr
 ough piles of policies\, procedures and documentation to understand wheth
 er you meet the requirements. It's valuable\, but time-consuming.\n\nToget
 her with Agents for Change\, The Terrace developed a B Corp AI Agent to su
 pport you throughout the certification process — from initial analysis t
 o implementation and submission.\n\nThe Agent helps you to:\n\n✓ Analyse
  existing documentation against the most recent B Corp Standards\n\n✓ I
 dentify gaps and define improvement actions\n\n✓ Structure and manage y
 our implementation workflow\n\n✓ Get input to support your certification
  submission\n\nThe result? Clear insight into where you stand and what to
  do next\, so you can focus on making real impact.\n\nWhat to expect:\n\n 
 	An introduction to the B Corp AI Agent\n 	A live demo\n 	Explanation on h
 ow to use it throughout your B Corp journey\n\nCurious to see how it works
  and what it can mean for your organisation? Join our online webinar\, fr
 ee of charge!\n\nRegister here
ATTACH;FMTTYPE=image/jpeg:https://www.duurzaam-ondernemen.nl/wordpress/wp-
 content/uploads/2026/04/Webinar-B-Corp-AI-The-Terrace.png
CATEGORIES:Duurzaamheidsprofessionals
LOCATION:Online webinar\,  \,  \, Nederland
GEO:52.132633;5.291266
X-APPLE-STRUCTURED-LOCATION;VALUE=URI;X-ADDRESS= \,  \, Nederland;X-APPLE-R
 ADIUS=100;X-TITLE=Online webinar:geo:52.132633,5.291266
END:VEVENT
BEGIN:VTIMEZONE
TZID:Europe/Amsterdam
X-LIC-LOCATION:Europe/Amsterdam
BEGIN:DAYLIGHT
DTSTART:20260329T030000
TZOFFSETFROM:+0100
TZOFFSETTO:+0200
TZNAME:CEST
END:DAYLIGHT
END:VTIMEZONE
END:VCALENDAR