BEGIN:VCALENDAR
VERSION:2.0
PRODID:-//wp-events-plugin.com//7.2.3.1//EN
TZID:Europe/Amsterdam
X-WR-TIMEZONE:Europe/Amsterdam
BEGIN:VEVENT
UID:2038@duurzaam-ondernemen.nl
DTSTART;TZID=Europe/Amsterdam:20260416T100000
DTEND;TZID=Europe/Amsterdam:20260416T110000
DTSTAMP:20260323T130738Z
URL:https://www.duurzaam-ondernemen.nl/events/webinar-audit-proof-volgens-
 co%e2%82%82-prestatieladder-4-0-waar-auditors-echt-op-letten/
SUMMARY:Webinar 'Audit-proof volgens CO₂-Prestatieladder 4.0: waar audito
 rs écht op letten'
DESCRIPTION:Handboek 4.0 van de CO2-prestatieladder brengt genoeg veranderi
 ngen met zich mee: meer focus op inhoudelijke onderbouwing\, ketenimpact e
 n aantoonbare voortgang. De inhoud heeft De Duurzame Adviseurs afgelopen h
 alf jaar uitgebreid met je gedeeld\, maar wat betekent dit alles concreet 
 voor jouw audit?\n\nTijdens dit webinar gaat Lars (De Duurzame Adviseurs
 ) in gesprek met auditor Daan van Normec NCK. Vanuit het perspectief va
 n de auditor nemen we je mee in wat je kunt verwachten bij een audit volge
 ns Handboek 4.0.\n\nWe bespreken het volgende:\n\n 	Waar auditors bij 4.0 
 extra scherp op gaan zijn\;\n 	Wat er vanuit het oogpunt van een auditor e
 cht anders is ten opzichte van handboek 3.1\;\n 	Opvallende aandachtspunte
 n uit Daan zijn recente audits\;\n 	De 3 meest gemaakte fouten bij audits\
 ;\n 	Hoe je je organisatie goed voorbereidt op de audit\;\n 	Welke bewijss
 tukken of onderbouwingen doorslaggevend zijn.\n\nDit keer geen theorie uit
  het handboek\, maar praktijkinzichten van iemand die dagelijks audits uit
 voert.\n\nZo krijg je meer helderheid over interpretatie\, verwachtingen e
 n eventuele valkuilen. En weet je waar je als organisatie het beste op ka
 n sturen.\n\nGratis aanmelden
ATTACH;FMTTYPE=image/jpeg:https://www.duurzaam-ondernemen.nl/wordpress/wp-
 content/uploads/2026/03/Audit-proof-volgens-CO₂-Prestatieladder-4.0-waar
 -auditors-echt-op-letten.-1200x630-1.png
CATEGORIES:Klimaat en Energie
LOCATION:Online webinar\,  \,  \, Nederland
GEO:52.132633;5.291266
X-APPLE-STRUCTURED-LOCATION;VALUE=URI;X-ADDRESS= \,  \, Nederland;X-APPLE-R
 ADIUS=100;X-TITLE=Online webinar:geo:52.132633,5.291266
END:VEVENT
BEGIN:VTIMEZONE
TZID:Europe/Amsterdam
X-LIC-LOCATION:Europe/Amsterdam
BEGIN:DAYLIGHT
DTSTART:20260329T030000
TZOFFSETFROM:+0100
TZOFFSETTO:+0200
TZNAME:CEST
END:DAYLIGHT
END:VTIMEZONE
END:VCALENDAR