BEGIN:VCALENDAR
VERSION:2.0
PRODID:-//wp-events-plugin.com//7.2.3.1//EN
TZID:Europe/Amsterdam
X-WR-TIMEZONE:Europe/Amsterdam
BEGIN:VEVENT
UID:1873@duurzaam-ondernemen.nl
DTSTART;TZID=Europe/Amsterdam:20251030T150000
DTEND;TZID=Europe/Amsterdam:20251030T160000
DTSTAMP:20251021T064717Z
URL:https://www.duurzaam-ondernemen.nl/events/webinar-adressing-the-income
 -child-labour-gender-nexus/
SUMMARY:Webinar 'Adressing the income–child labour-gender nexus'
DESCRIPTION:Many companies are committed to improving farmer income in and 
 eliminating child labour from their supply chains. Research shows that inc
 reasing (farmer) income alone doesn’t automatically reduce child labour\
 , and may even lead to an increase of child labour. To be effective\, prog
 rammes must address the interconnected dynamics of income\, gender and chi
 ld labour.\nThis webinar presents practical insights from KIT Institute’
 s recent research\, showing how companies and local organisations can red
 uce child labour and close living income gaps\, while addressing gender ro
 les in complex value chains like coffee\, cocoa and cashew.\nWhat to expec
 t:\n\n\n 	Key findings from KIT Institute’s research\n 	Field experience
 s from two companies working on integrated solutions\n\nJoin the conversat
 ion and learn how to design interventions that address the income\, child 
 labour\, gender nexus for lasting impact!\nRegister for the webinar here!
ATTACH;FMTTYPE=image/jpeg:https://www.duurzaam-ondernemen.nl/wordpress/wp-
 content/uploads/2025/10/SPVO-RVO_Webinar-2-1.jpg
CATEGORIES:Voeding &amp; Landbouw
LOCATION:Online webinar\,  \,  \, Nederland
GEO:52.132633;5.291266
X-APPLE-STRUCTURED-LOCATION;VALUE=URI;X-ADDRESS= \,  \, Nederland;X-APPLE-R
 ADIUS=100;X-TITLE=Online webinar:geo:52.132633,5.291266
END:VEVENT
BEGIN:VTIMEZONE
TZID:Europe/Amsterdam
X-LIC-LOCATION:Europe/Amsterdam
BEGIN:STANDARD
DTSTART:20251026T020000
TZOFFSETFROM:+0200
TZOFFSETTO:+0100
TZNAME:CET
END:STANDARD
END:VTIMEZONE
END:VCALENDAR