BEGIN:VCALENDAR
VERSION:2.0
PRODID:-//wp-events-plugin.com//7.2.3.1//EN
TZID:Europe/Amsterdam
X-WR-TIMEZONE:Europe/Amsterdam
BEGIN:VEVENT
UID:1304@duurzaam-ondernemen.nl
DTSTART;TZID=Europe/Amsterdam:20240409T100000
DTEND;TZID=Europe/Amsterdam:20240409T110000
DTSTAMP:20240403T142534Z
URL:https://www.duurzaam-ondernemen.nl/events/webinar-1st-experiences-with
 -csrd-reporting/
SUMMARY:Webinar '1st Experiences with CSRD Reporting'
DESCRIPTION:&nbsp\;\n\nWith the first CSRD reporting deadlines approaching 
 fast\, we will delve into the initial experiences and insights around CSRD
  reporting: how it relates to your business\, what are best practices and 
 what should you avoid doing. Join our upcoming webinar where we’ll explo
 re the landscape of Corporate Sustainability Reporting Directive (CSRD) im
 plementation.\n\nWhat to Expect:\n\n 	CSRD\, Beyond Compliance! A lot of 
 high-quality sustainability data will be gathered during the CSRD process.
  We will discuss how to achieve going beyond mere compliance\, but rather 
 gaining valuable steering information &amp\; boosting sustainability throu
 gh CSRD reporting.\n 	What not to do: Uncover common misconceptions surro
 unding CSRD reporting and gain actionable guidance on how to avoid them ef
 fectively.\n 	CSRD for non-CSRD companies: Delve into what CSRD means for
  companies not (yet) mandated to comply. Discover the possible data reques
 ts you will receive from clients and how you can facilitate them\, thereby
  improving your position as a sustainable supplier.\n\nEach of our webinar
 s is hosted online and contains a mix of ingredients. We will take a hand
 s-on approach to:\n\n 	Discuss knowledge and tools\n 	Exchange experiences
  and best practices\n\nTo ensure that our sessions lead to fruitful discus
 sions among like-minded professionals\, we will:\n\n 	Admit a maximum of 2
 0 sustainability managers per webinar\n 	Welcome sustainability managers f
 rom various countries\, including the Netherlands\, Belgium\, Kenya\, and 
 South Africa\n\nRegister for free
ATTACH;FMTTYPE=image/jpeg:https://www.duurzaam-ondernemen.nl/wordpress/wp-
 content/uploads/2024/04/Sustainability-Managers-Webinar_1st-Experiences-wi
 th-CSRD-Reporting-2-1000x500-1.png
CATEGORIES:Verslaggeving &amp; Transparantie
LOCATION:Online webinar\,  \,  \, Nederland
GEO:52.132633;5.291266
X-APPLE-STRUCTURED-LOCATION;VALUE=URI;X-ADDRESS= \,  \, Nederland;X-APPLE-R
 ADIUS=100;X-TITLE=Online webinar:geo:52.132633,5.291266
END:VEVENT
BEGIN:VTIMEZONE
TZID:Europe/Amsterdam
X-LIC-LOCATION:Europe/Amsterdam
BEGIN:DAYLIGHT
DTSTART:20240331T030000
TZOFFSETFROM:+0100
TZOFFSETTO:+0200
TZNAME:CEST
END:DAYLIGHT
END:VTIMEZONE
END:VCALENDAR