BEGIN:VCALENDAR
VERSION:2.0
PRODID:-//wp-events-plugin.com//7.2.3.1//EN
TZID:Europe/Amsterdam
X-WR-TIMEZONE:Europe/Amsterdam
BEGIN:VEVENT
UID:2068@duurzaam-ondernemen.nl
DTSTART;TZID=Europe/Amsterdam:20260519T090000
DTEND;TZID=Europe/Amsterdam:20260519T130000
DTSTAMP:20260421T112925Z
URL:https://www.duurzaam-ondernemen.nl/events/vsme-in-een-dag-werksessie/
SUMMARY:VSME in één dag - werksessie
DESCRIPTION:Krijg je steeds vaker vragen over duurzaamheid van opdrachtgeve
 rs\, klanten\, ketenpartners of financiers? De VSME (Vrijwillige Rapport
 agestandaard voor het MKB) helpt je om duurzaamheidsinformatie gestructure
 erd vast te leggen en te delen.\nTijdens deze praktische werkgroep van De 
 Duurzame Adviseurs ga je in een kleine groep direct aan de slag met je eig
 en VSME-opzet.\n\nWat deelnemers meenemen:\n\n 	Je leert je hoe de VSME is
  opgebouwd\;\n 	Je bepaalt welke datapunten relevant zijn voor jouw organi
 satie\;\n 	Je stelt je eigen VSME-raamwerk op\;\n 	Je maakt een concreet d
 ataverzamelingsplan.\n\nDaarnaast is er 3 weken na afloop nog een persoonl
 ijk tijdslot voor extra vragen beschikbaar.\n\nVoor wie is deze werkgroep:
 \nVoor organisaties die duurzaamheids-/ESG-vragen ontvangen uit de keten e
 n deze willen beantwoorden aan de hand van de VSME\, zonder meteen een vol
 ledig begeleidingstraject te starten.\nMeer info + aanmelden (incl. lunch)
ATTACH;FMTTYPE=image/jpeg:https://www.duurzaam-ondernemen.nl/wordpress/wp-
 content/uploads/2026/04/VSME-in-een-ochtend-zelf-aan-de-slag-met-je-eigen-
 rapportage.png
CATEGORIES:Verslaggeving &amp; Transparantie
LOCATION:De Duurzame Adviseurs\, Uraniumweg 17 C\, Amersfoort\, 3812 RJ\, N
 ederland
GEO:52.167229;5.356019
X-APPLE-STRUCTURED-LOCATION;VALUE=URI;X-ADDRESS=Uraniumweg 17 C\, Amersfoor
 t\, 3812 RJ\, Nederland;X-APPLE-RADIUS=100;X-TITLE=De Duurzame Adviseurs:g
 eo:52.167229,5.356019
END:VEVENT
BEGIN:VTIMEZONE
TZID:Europe/Amsterdam
X-LIC-LOCATION:Europe/Amsterdam
BEGIN:DAYLIGHT
DTSTART:20260329T030000
TZOFFSETFROM:+0100
TZOFFSETTO:+0200
TZNAME:CEST
END:DAYLIGHT
END:VTIMEZONE
END:VCALENDAR