BEGIN:VCALENDAR
VERSION:2.0
PRODID:-//wp-events-plugin.com//7.2.3.1//EN
TZID:Europe/Amsterdam
X-WR-TIMEZONE:Europe/Amsterdam
BEGIN:VEVENT
UID:1942@duurzaam-ondernemen.nl
DTSTART;TZID=Europe/Amsterdam:20260126T130000
DTEND;TZID=Europe/Amsterdam:20260126T180000
DTSTAMP:20260106T104224Z
URL:https://www.duurzaam-ondernemen.nl/events/true-price-festival/
SUMMARY:True Price Festival
DESCRIPTION:Registreer je nu voor de jubileumeditie van het True Price Fest
 ival op 26 januari 2026 in Theater Utrecht.\n\nTijdens het festival bouwen
  we voort op de groeiende True Price-beweging en brengen we deze Echte Pri
 jsgemeenschap tot leven\, een plek waar we samen bepalen wat er écht telt
  in een prijs. Het festivalprogramma bestaat uit een mix van inspirerende 
 sprekers en workshops waarin je concrete tools krijgt om de echte prijs ze
 lf in praktijk te brengen. Ook dit jaar reiken we de True Price Award uit\
 , de aanmoedigingsprijs voor het consumentenproduct van Nederland dat het 
 meest overtuigend de kloof weet te dichten tussen de marktprijs en de echt
 e prijs.\n\n\n\nMeer informatie/registratie\n\n&nbsp\;
ATTACH;FMTTYPE=image/jpeg:https://www.duurzaam-ondernemen.nl/wordpress/wp-
 content/uploads/2026/01/Eventbrite-TP-Festival-Banner-800-x-460-px.png
CATEGORIES:Duurzaamheidsprofessionals
LOCATION:Theater Utrecht\, Boorstraat 107\, Utrecht\, 3513 SE\, Nederland
GEO:52.096822;5.105042
X-APPLE-STRUCTURED-LOCATION;VALUE=URI;X-ADDRESS=Boorstraat 107\, Utrecht\, 
 3513 SE\, Nederland;X-APPLE-RADIUS=100;X-TITLE=Theater Utrecht:geo:52.0968
 22,5.105042
END:VEVENT
BEGIN:VTIMEZONE
TZID:Europe/Amsterdam
X-LIC-LOCATION:Europe/Amsterdam
BEGIN:STANDARD
DTSTART:20251026T020000
TZOFFSETFROM:+0200
TZOFFSETTO:+0100
TZNAME:CET
END:STANDARD
END:VTIMEZONE
END:VCALENDAR