BEGIN:VCALENDAR
VERSION:2.0
PRODID:-//wp-events-plugin.com//7.2.3.1//EN
TZID:Europe/Amsterdam
X-WR-TIMEZONE:Europe/Amsterdam
BEGIN:VEVENT
UID:1302@duurzaam-ondernemen.nl
DTSTART;TZID=Europe/Amsterdam:20240605T120000
DTEND;TZID=Europe/Amsterdam:20240605T193000
DTSTAMP:20240403T084516Z
URL:https://www.duurzaam-ondernemen.nl/events/transform-our-future-2024-dr
 iving-sustainable-impact/
SUMMARY:Transform. Our Future 2024: Driving sustainable impact
DESCRIPTION:Hoe integreert u duurzaamheid in de organisatie? Doe inspiratie
  op tijdens presentaties van sprekers van o.a. Climate Alliance\, PostNL e
 n Philips\, en wissel ervaringen uit met vakgenoten tijdens diverse werk-e
 n netwerksessies. Het thema van deze tweede editie van Transform. Our Futu
 re is Driving sustainable impact. Met dit event wil Deloitte Nederland u i
 nspiratie en handvatten bieden voor de volgende stappen van uw organisatie
 s duurzaamheidstransitie.\nSprekers\n\n 	Herna Verhagen\, CEO PostNL\n 	Fe
 ike Sijbesma\, CEO Climate Aliance\n 	Robert Metzke\, Global Head of Susta
 inability bij Philips\n 	Joris Bijdendijk\, Chefkok van 3 restaurants and 
 mede-oprichter van de Low Food Foundation\n 	Paul de Ruiter\, Oprichter &a
 mp\; directeur van Paul de Ruiter Architects\, ondermener\, innovator and 
 inspirator beroemd voor het produceren van duurzame en vernieuwende gebouw
 en\n 	Peter Werkhoven\, Chief Scientist bij TNO en Professor Universiteit 
 Utrecht (Information &amp\; Computing Sciences)\n 	Dagvoorzitter: Froukje 
 Jansen\, presenter\, journalist en co-board member NatuurCollege\n\nWerkse
 ssies\nOm inspiratie\, connectie\, en samenwerking te faciliteren\, worden
  de plenaire presentaties afgewisseld met 2 rondes werksessies. In ronde 1
  staan vier “systemic challenges” centraal\, en in ronde 2 gaan we uit
 een per functionele organisatie-afdeling. Meer informatie over deze werkse
 ssies is te vinden op de aanmeldpagina.\n\n\nDoelgroep en aanmelding\nTran
 sform. Our Future 2024 is gericht op de drijvende krachten van de duurzaam
 heidstransitie in het Nederlandse bedrijfsleven. Ons doel is om met een di
 verse groep bijeen te komen\, en tegelijkertijd scherp te zijn op het bezo
 ekersaantal om een intieme sfeer en samenwerking te faciliteren tijdens de
  werksessies. Via het formulier op deze pagina kunt u uw interesse doorgev
 en om deel te nemen aan Transform. Our Future 2024. Zodra er een plaats be
 schikbaar komt\, benaderen wij u met een persoonlijke uitnodiging.\n\n&nbs
 p\;
ATTACH;FMTTYPE=image/jpeg:https://www.duurzaam-ondernemen.nl/wordpress/wp-
 content/uploads/2024/04/Duurzaam-ondernemen-TOF24.png
CATEGORIES:Duurzaamheidsprofessionals
LOCATION:\, \, Nederland
X-APPLE-STRUCTURED-LOCATION;VALUE=URI;X-ADDRESS=\, Nederland;X-APPLE-RADIUS
 =100;X-TITLE=:geo:0,0
END:VEVENT
BEGIN:VTIMEZONE
TZID:Europe/Amsterdam
X-LIC-LOCATION:Europe/Amsterdam
BEGIN:DAYLIGHT
DTSTART:20240331T030000
TZOFFSETFROM:+0100
TZOFFSETTO:+0200
TZNAME:CEST
END:DAYLIGHT
END:VTIMEZONE
END:VCALENDAR