BEGIN:VCALENDAR
VERSION:2.0
PRODID:-//wp-events-plugin.com//7.2.3.1//EN
TZID:Europe/Amsterdam
X-WR-TIMEZONE:Europe/Amsterdam
BEGIN:VEVENT
UID:1184@duurzaam-ondernemen.nl
DTSTART;TZID=Europe/Amsterdam:20240424T090000
DTEND;TZID=Europe/Amsterdam:20240424T170000
DTSTAMP:20240209T082355Z
URL:https://www.duurzaam-ondernemen.nl/events/training-versterk-je-duurzaa
 m-leiderschap/
SUMMARY:Training 'Versterk je duurzaam leiderschap'
DESCRIPTION:Echt werk maken van jouw droombaan in duurzaamheid!\n\nWil jij 
 een baan in duurzaamheid of een baan met meer maatschappelijke impact? Zit
  je al ávonden te googlen maar weet je nog niet precies wat je wilt of bi
 j welke organisaties je zou willen werken?\n\nOf ben je al aan het netwerk
 en of solliciteren maar kom je er niet tussen? En wil jij écht werk maken
  van jouw droombaan in duurzaamheid? Volg dan Versterk je duurzaam leiders
 chap bij Sustainable Talent!\nIn een kort maar krachtig traject van 3 maan
 den\, begeleid door dé loopbaancoach van de duurzame arbeidsmarkt\, vergr
 oot je je kansen enorm op het vinden én krijgen van jouw droombaan in duu
 rzaamheid!\n\nHet slagingspercentage van dit programma is maar liefst 85%!
 *\n\nLees hier de ervaringen van de deelnemers die je zijn voorgegaan.\nV
 oor wie\nBen jij al een aantal jaar werkzaam\, ambieer jij een carrière i
 n duurzaamheid of met meer maatschappelijke impact en:\n\n 	Weet jij nog n
 iet precies wat je wilt doen of bij welke organisaties je zou willen werke
 n?\n 	Of weet jij niet hoe je duurzaamheid in je huidige baan in zou kunne
 n passen?\n 	Heb jij nog onvoldoende kennis van de duurzame sector en de d
 uurzame arbeidsmarkt?\n 	Ben jij al aan het solliciteren of netwerken\, ma
 ar lukt het je niet om die droombaan te bemachtigen?\n 	Wil jij je netwerk
  uitbreiden en écht kans maken op jouw droombaan in duurzaamheid?\n\nDan 
 is Versterk je duurzaam leiderschap écht wat voor jou!\nProgramma\nVerste
 rk je duurzaam leiderschap bestaat uit twee trainingsdagen. Tussen deze tr
 ainingen in zijn er twee individuele Teams gesprekken met dé loopbaancoac
 h van de duurzame arbeidsmarkt Annick Schmeddes. De trainingsdagen zijn 
 ook los te boeken.\n\n\nOp de eerste dag onderzoeken we waar jouw ervaring
 s en skills liggen\, wat jouw drijfveren zijn\, wat jij binnen het brede v
 eld van duurzaamheid écht interessant vindt en waar jij het beste aanslui
 ting bij kunt vinden òf wat je nog dient te verbeteren. We doen dit aan d
 e hand van het Business Model You\, een speelse maar zeer effectieve tool
  die je ook blijvend kunt gebruiken om jouw propositie aan te scherpen. Te
 nslotte breng je concreet in kaart bij welke organisaties je zou willen (
 en kunnen) werken.\n\nIndividueel Teams gesprek\nNa het afronden van deze 
 training heb je een individueel online gesprek van 45 minuten.\n\nDeze dag
  gaan we a.d.h.v. een tool heel concreet aan de slag met een korte en krac
 htige pitch\, je C.V.\, sollicitatiebrief en LinkedIn profiel waarbij je d
 irect feedback krijgt van Sustainable Talent én van de andere deelnemers.
  Je oefent deze dag ook je mondelinge pitch in de groep.\n\nIndividueel Te
 ams gesprek\nOok na deze training heb je een individueel online gesprek wa
 arin we e.e.a. nog verder aanscherpen en waarin je tips krijgt hoe je in c
 ontact kunt komen met voor jou relevante werkgevers.\nWat levert het op?\n
 Versterk je duurzaam leiderschap is een kort maar krachtig programma van z
 o’n 3 maanden waarbij je:\n\n 	Focus krijgt en kiest wat jij precies wi
 lt in duurzaamheid. Wil je iets met duurzame energie doen\, met duurzame 
 voeding\, of met sociale innovatie? Focus is belangrijk om meer kennis op 
 te kunnen doen\, je te kunnen verdiepen en een netwerk op te bouwen.\n 	Le
 ert wat jouw talenten zijn en waar jouw toegevoegde waarde ligt binnen he
 t werkveld van duurzaamheid.\n 	Inzicht krijgt in de duurzame arbeidsmarkt
  en waar duurzame werkgevers behoefte aan hebben.\n 	Organisaties in kaar
 t brengt waar je zou willen werken en onderzoekt wat er op dit moment b
 ij hen speelt.\n 	Een match maakt tussen jouw talenten en de behoeften va
 n jouw droomorganisatie(s).\n 	Leert om duidelijk over te brengen in een 
 pitch\, sollicitatiegesprek\, C.V. en LinkedIn waarom jij de geschikte ka
 ndidaat bent voor jouw droomorganisatie.\n 	Je netwerk in duurzaamheid dir
 ect al uitbreidt en gebruik kan maken van het zeer uitgebreide netwerk va
 n Sustainable talent.\n 	Gestart bent met het voeren van netwerk- of soll
 icitatiegesprekken met relevante organisaties.\n\nKortom\, met dit trajec
 t vergroot je je kansen enorm op het vinden van jouw droombaan in duurzaam
 heid! Het slagingspercentage is maar liefst 85%!*\n\n* Maar liefst 85% van
  de deelnemers aan deze training heeft binnen 4 weken een positief netwerk
 gesprek (waarbij er verder wordt gepraat over het creëren van een vacatur
 e) of een sollicitatiegesprek – waarbij de deelnemer de baan heeft gekre
 gen.\nPraktische info &amp\; aanmelden\nData:\n\nWoensdag 24 april en woen
 sdag 5 juni 2024\n\nVrijdag 27 september en vrijdag 29 november 2024\n\nTi
 jden: 9.00-17.00 uur\n\nLocatie: Sustainable Talent\, Niasstraat 6b\, 353
 1 WP Utrecht te Utrecht\n\nGroepsgrootte: maximaal 12 deelnemers.\n\nDe 
 individuele Teams gesprekken worden met de deelnemers afgestemd.\n\nKosten
 : € 900\,- (excl. BTW) incl. diverse werkmaterialen en etentje na afslu
 iting. Met certificaten. ZZP-ers\, medewerkers van Social Enterprise NL-le
 den en B-Corps -leden krijgen € 100\,- korting. Neem daarvoor contact m
 et ons op. \n\nVroegboekactie: Boek vóór 15 maart 2024 en ontvang ee
 n extra gratis coachsessie.\n\nDe trainingsdagen zijn ook los te boeken:\n
 Trainingsdag Koers &amp\; Kompas € 450\,- excl. btw\nTrainingsdag Match
  met de Markt: € 495\,- excl. btw\n\nVoorbereiding: Graag ontvangen we
  van te voren je CV. Ook krijg je van ons een vragenlijst die je vooraf in
 dient te vullen.\n\nTaal: Nederlands\n\nAanmelden en meer informatie
ATTACH;FMTTYPE=image/jpeg:https://www.duurzaam-ondernemen.nl/wordpress/wp-
 content/uploads/2024/01/image00020.jpeg
CATEGORIES:Duurzaamheidsprofessionals
LOCATION:Kantoor Sustainable Talent\, Niasstraat 6b\, Utrecht\, 3531 WP\, N
 ederland
GEO:52.093264;5.092151
X-APPLE-STRUCTURED-LOCATION;VALUE=URI;X-ADDRESS=Niasstraat 6b\, Utrecht\, 3
 531 WP\, Nederland;X-APPLE-RADIUS=100;X-TITLE=Kantoor Sustainable Talent:g
 eo:52.093264,5.092151
END:VEVENT
BEGIN:VTIMEZONE
TZID:Europe/Amsterdam
X-LIC-LOCATION:Europe/Amsterdam
BEGIN:DAYLIGHT
DTSTART:20240331T030000
TZOFFSETFROM:+0100
TZOFFSETTO:+0200
TZNAME:CEST
END:DAYLIGHT
END:VTIMEZONE
END:VCALENDAR