BEGIN:VCALENDAR
VERSION:2.0
PRODID:-//wp-events-plugin.com//7.2.3.1//EN
TZID:Europe/Amsterdam
X-WR-TIMEZONE:Europe/Amsterdam
BEGIN:VEVENT
UID:2070@duurzaam-ondernemen.nl
DTSTART;TZID=Europe/Amsterdam:20260602T090000
DTEND;TZID=Europe/Amsterdam:20260602T170000
DTSTAMP:20260421T141840Z
URL:https://www.duurzaam-ondernemen.nl/events/training-science-based-targe
 ts-gesteld-wat-nu-van-ambitie-naar-concrete-co2-reductie-in-de-praktijk/
SUMMARY:Training: Science-based targets gesteld. Wat nu? Van ambitie naar c
 oncrete CO2-reductie in de praktijk
DESCRIPTION:De eendaagse training 'Science-based targets gesteld. Wat nu? V
 an ambitie naar concrete CO2-reductie in de praktijk' van Groenbalans is s
 peciaal ontwikkeld voor bedrijven die reductiedoelen hebben gesteld volgen
 s SBTi. Je krijgt praktische handvatten\, actuele inzichten én de kans om
  ervaringen uit te wisselen met collega’s uit de sector.        een doel
 gericht CO2-reductieplan   ? \n\nVoor wie: leden en niet-leden Federatie
  Nederlandse Levensmiddelen Industrie (FNLI)\n\nLocatie: Omgeving Utrecht 
 (nog nader te bepalen)\n\nTrainers: Roeland Vervloet en Astrid Klooster | 
 Sustainability experts | Groenbalans\n\nInschrijven en meer informatie
ATTACH;FMTTYPE=image/jpeg:https://www.duurzaam-ondernemen.nl/wordpress/wp-
 content/uploads/2026/04/260602-FNLI-Training.jpg
CATEGORIES:Klimaat en Energie
LOCATION:\, \, Nederland
X-APPLE-STRUCTURED-LOCATION;VALUE=URI;X-ADDRESS=\, Nederland;X-APPLE-RADIUS
 =100;X-TITLE=:geo:0,0
END:VEVENT
BEGIN:VTIMEZONE
TZID:Europe/Amsterdam
X-LIC-LOCATION:Europe/Amsterdam
BEGIN:DAYLIGHT
DTSTART:20260329T030000
TZOFFSETFROM:+0100
TZOFFSETTO:+0200
TZNAME:CEST
END:DAYLIGHT
END:VTIMEZONE
END:VCALENDAR