BEGIN:VCALENDAR
VERSION:2.0
PRODID:-//wp-events-plugin.com//7.2.3.1//EN
TZID:Europe/Amsterdam
X-WR-TIMEZONE:Europe/Amsterdam
BEGIN:VEVENT
UID:1181@duurzaam-ondernemen.nl
DTSTART;TZID=Europe/Amsterdam:20240131T090000
DTEND;TZID=Europe/Amsterdam:20240131T170000
DTSTAMP:20240104T120337Z
URL:https://www.duurzaam-ondernemen.nl/events/training-esg-rapportage-voor
 -bouw-en-vastgoedprofessionals/
SUMMARY:Training ESG-rapportage voor bouw- en vastgoedprofessionals
DESCRIPTION:Er komt veel regelgeving vanuit Europa die bouw- en vastgoedbed
 rijven en andere grote organisaties verplicht over duurzaamheid te rapport
 eren. Het gaat om een breed scala aan ecologische\, maatschappelijke en be
 stuur (ESG-)indicatoren. De ESG-rapportage wordt een belangrijk middel om 
 je te onderscheiden in de markt\, kapitaal aan te trekken én succesvol in
  lijn met de Parijs doelstellingen te verduurzamen. Maar hoe vertaal je de
  regels naar jouw organisatie en een ESG-rapportage?\n\n\n\nSpeciaal voor 
 bouw- en vastgoedprofessionals\nDe Europese regels\, de zogeheten EU Taxon
 omie\, SFDR en CSRD\, zijn niet per definitie gericht op de Nederlandse bo
 uw- en vastgoedsector. Daarom is er veel behoefte aan het begrijpen en toe
 passen van de criteria\, maar ook bij het bepalen welke data er nodig is v
 oor jouw rapportage.\n\nTijdens deze training speciaal voor bouw- en vastg
 oedprofessionals leer je welke ESG-regelgeving relevant is voor jou\, hoe 
 je de Europese regels vertaalt naar jouw organisatie en hoe je jouw duurza
 amheidsstrategie hier op aan kan scherpen. Aan de hand van een case study 
 en tools krijg je praktische handvatten om de regelgeving te vertalen naar
  strategie en (rapportage)processen binnen jouw bedrijf.\nNa de training\n
 \n 	Weet je wat de ESG-rapportage wetgeving inhoudt en wat de impact is op
  jouw organisatie\n 	Weet je welke ESG-indicatoren voor jouw organisatie g
 elden en hoe deze toepasbaar zijn in de praktijk\n 	Kun je inschatten wat 
 de impact van de ESG-rapportage is op de vastgoedmarkt\, financiering en a
 ccountantsverklaring\n 	Begrijp je hoe belangrijke elementen moet aanpakke
 n\, zoals:\n\n 	Bepalen van de scope 1\, 2 en 3- broeikasgasemissies\n 	Be
 palen van de dubbele materialiteit\n 	Voldoen aan de Minimum Social Safegu
 ards en OECD-richtlijnen\n\n\n 	Kun je aan de hand van een gap-analyse\, o
 ftewel een vergelijking tussen de bestaande situatie en de gewenste situat
 ie binnen je bedrijf\, bepalen welke stappen er in de interne organisatie 
 nodig zijn om je ESG-rapportage vorm te geven\n\nVoor wie?\nDeze training 
 is met name bestemd voor partijen die nu of in de toekomst onder de scope 
 van ESG-rapportage regelgeving vallen\, of vrijwillig willen rapporteren. 
 Je leert hoe je zelfstandig kan rapporteren en waar je op moet letten.\nDo
 centen\n\n 	Peter Gabriëls\, Senior Projectmanager Dutch Green Building C
 ouncil (DGBC)\n 	Arjan van Eijk\, Associate Director ESG and Sustainabilit
 y\, CBRE Nederland\n\nLocatie\nDeze training vindt plaats in Rotterdam\, d
 e precieze locatie wordt binnenkort bekend.\nInvestering\nDe deelnamekoste
 n voor DGBC-partners bedragen € 749\,25 (excl. btw) per persoon. Voor de
 elnemers van organisaties die geen DGBC-partner zijn\, is de bijdrage € 
 999\,- (excl. btw). Dit is inclusief lunch en consumpties.\nPermanente ed
 ucatie (PE)\nDeze training is geschikt voor permanente educatie:\n\n 	Acco
 untants kunnen deze training inzetten voor de opbouw van hun PE-portfolio\
 n 	BREEAM-NL Experts voldoen met deze training aan hun permante educatiepl
 icht\n 	PE Punten NRVT: 7 punten\n\nNa afloop ontvang je een deelnamece
 rtificaat.\n\nMeer informatie/inschrijven\n\n
ATTACH;FMTTYPE=image/jpeg:https://www.duurzaam-ondernemen.nl/wordpress/wp-
 content/uploads/2024/01/DGBC-Banner-ESG.jpeg
CATEGORIES:Bouw/Infra &amp; Vastgoed,Verslaggeving &amp; Transparantie
LOCATION:\, \, Nederland
X-APPLE-STRUCTURED-LOCATION;VALUE=URI;X-ADDRESS=\, Nederland;X-APPLE-RADIUS
 =100;X-TITLE=:geo:0,0
END:VEVENT
BEGIN:VTIMEZONE
TZID:Europe/Amsterdam
X-LIC-LOCATION:Europe/Amsterdam
BEGIN:STANDARD
DTSTART:20231029T020000
TZOFFSETFROM:+0200
TZOFFSETTO:+0100
TZNAME:CET
END:STANDARD
END:VTIMEZONE
END:VCALENDAR