BEGIN:VCALENDAR
VERSION:2.0
PRODID:-//wp-events-plugin.com//7.2.3.1//EN
TZID:Europe/Amsterdam
X-WR-TIMEZONE:Europe/Amsterdam
BEGIN:VEVENT
UID:2069@duurzaam-ondernemen.nl
DTSTART;TZID=Europe/Amsterdam:20260507T090000
DTEND;TZID=Europe/Amsterdam:20260507T170000
DTSTAMP:20260421T141625Z
URL:https://www.duurzaam-ondernemen.nl/events/training-effectief-toewerken
 -naar-science-based-targets-sbti/
SUMMARY:Training: Effectief toewerken naar science-based targets (SBTi)
DESCRIPTION:De eendaagse training 'Effectief toewerken naar science-based t
 argets (SBTi)' van Groenbalans is speciaal ontwikkeld voor bedrijven die c
 oncreet aan de slag willen met klimaatdoelstellingen volgens Science Based
  Targets initiative. Je krijgt praktische handvatten\, actuele inzichten 
 én de kans om ervaringen uit te wisselen met collega’s uit de sector.  
       -   ?\n \nVoor wie: leden en niet-leden Federatie Nederlandse Leve
 nsmiddelen Industrie (FNLI)\nLocatie: Omgeving Utrecht (nog nader te bepal
 en)\nTrainers: Roeland Vervloet en Astrid Klooster | Sustainability expert
 s | Groenbalans\nInschrijven en meer informatie
ATTACH;FMTTYPE=image/jpeg:https://www.duurzaam-ondernemen.nl/wordpress/wp-
 content/uploads/2026/04/FNLI-LinkedIn-training-.jpg
CATEGORIES:Klimaat en Energie
LOCATION:\, \, Nederland
X-APPLE-STRUCTURED-LOCATION;VALUE=URI;X-ADDRESS=\, Nederland;X-APPLE-RADIUS
 =100;X-TITLE=:geo:0,0
END:VEVENT
BEGIN:VTIMEZONE
TZID:Europe/Amsterdam
X-LIC-LOCATION:Europe/Amsterdam
BEGIN:DAYLIGHT
DTSTART:20260329T030000
TZOFFSETFROM:+0100
TZOFFSETTO:+0200
TZNAME:CEST
END:DAYLIGHT
END:VTIMEZONE
END:VCALENDAR