BEGIN:VCALENDAR
VERSION:2.0
PRODID:-//wp-events-plugin.com//7.2.3.1//EN
TZID:Europe/Amsterdam
X-WR-TIMEZONE:Europe/Amsterdam
BEGIN:VEVENT
UID:1661@duurzaam-ondernemen.nl
DTSTART;TZID=Europe/Amsterdam:20250429T093000
DTEND;TZID=Europe/Amsterdam:20250430T170000
DTSTAMP:20250314T074558Z
URL:https://www.duurzaam-ondernemen.nl/events/the-sustainable-apparel-and-
 textiles-conference/
SUMMARY:The Sustainable Apparel and Textiles Conference
DESCRIPTION:This two-day business conference targets forward-thinking leade
 rs in the apparel and textiles industry\, bringing together a variety of s
 takeholders to focus on essential strategies for tackling today’s challe
 nges. We'll equip attendees with actionable insights and guides for adapti
 ng operations to create a real impact amid growing competition and scrutin
 y\, all while managing tight budgets.\nEthical and transparent sourcing\nD
 iscover step-by-step strategies for engaging stakeholders across the value
  chain. Learn how to effectively collaborate from tier 4 suppliers to cons
 umers amidst evolving regulations.\nNet-zero decarbonisation\nGet expert g
 uidance on securing investment for profitable decarbonisation and essentia
 l considerations for a just transition.\nClimate\, nature and water\nEscap
 e carbon tunnel vision for more holistic and effective strategies that rec
 ognise the synergies and complexities of the climate crisis.\nCircularity 
 and sustainable design\nExplore practical\, efficient\, and economical met
 hods for advancing circularity\, and develop innovative approaches to 'end
 -of-life' strategies to remain competitive.\n\nMore information
ATTACH;FMTTYPE=image/jpeg:https://www.duurzaam-ondernemen.nl/wordpress/wp-
 content/uploads/2025/03/Apparel-EU-event-tile-Cascale.png
CATEGORIES:Algemeen/Overig
LOCATION:Hotel Casa Amsterdam\, Eerste Ringdijkstraat 4\, Amsterdam\, 1097 
 BC\, Nederland
GEO:52.349942;4.918373
X-APPLE-STRUCTURED-LOCATION;VALUE=URI;X-ADDRESS=Eerste Ringdijkstraat 4\, A
 msterdam\, 1097 BC\, Nederland;X-APPLE-RADIUS=100;X-TITLE=Hotel Casa Amste
 rdam:geo:52.349942,4.918373
END:VEVENT
BEGIN:VTIMEZONE
TZID:Europe/Amsterdam
X-LIC-LOCATION:Europe/Amsterdam
BEGIN:DAYLIGHT
DTSTART:20250330T030000
TZOFFSETFROM:+0100
TZOFFSETTO:+0200
TZNAME:CEST
END:DAYLIGHT
END:VTIMEZONE
END:VCALENDAR