BEGIN:VCALENDAR
VERSION:2.0
PRODID:-//wp-events-plugin.com//7.2.3.1//EN
TZID:Europe/Amsterdam
X-WR-TIMEZONE:Europe/Amsterdam
BEGIN:VEVENT
UID:1209@duurzaam-ondernemen.nl
DTSTART;TZID=Europe/Amsterdam:20240124T143000
DTEND;TZID=Europe/Amsterdam:20240124T153000
DTSTAMP:20240120T091834Z
URL:https://www.duurzaam-ondernemen.nl/events/the-global-circularity-gap-r
 eport-2024-launch-event/
SUMMARY:The Global Circularity Gap Report 2024 launch event
DESCRIPTION:Join Deloitte and Circle Economy Foundation online for the laun
 ch of the Global Circularity Gap Report 2024\nAbout the report\nThe circul
 ar economy seems to have entered the mainstream\, but our data shows anoth
 er story. Since 2019 the Circularity Gap Reports have provided crucial ana
 lysis on the state of global circularity\, across which there has been a s
 teady decline.\n\nIn the 2023 report\, we explored the true impact the cir
 cular economy can bring\; balancing the overshoot of planetary boundaries 
 with human wellbeing. The pressing question we address in 2024 is: How can
  we turn these insights into actionable steps?\nThe event\nIn collaboratio
 n with Circle Economy\, this launch event will show the most important ins
 ights from the new report and bring together industry\, political and acad
 emic specialists to inspire\, connect and learn from each other\, and disc
 over how we can drive change towards a circular world.\nAgenda\n14:30   
   Welcome from Deloitte\n14:40     Insights from the report from Circl
 e Economy\n14:55     Introduction of the panelists and their journey to
 wards circularity\nAndrea Liverani – Worldbank\n               H
 ege Sæbjørnsen – Ikea\n15:05     Panel Q&amp\;A\n15:30     Close
 \n\nRegister on this page
ATTACH;FMTTYPE=image/jpeg:https://www.duurzaam-ondernemen.nl/wordpress/wp-
 content/uploads/2022/01/circulair-scaled.jpg
CATEGORIES:Circulaire economie
LOCATION:Online webinar\,  \,  \, Nederland
GEO:52.132633;5.291266
X-APPLE-STRUCTURED-LOCATION;VALUE=URI;X-ADDRESS= \,  \, Nederland;X-APPLE-R
 ADIUS=100;X-TITLE=Online webinar:geo:52.132633,5.291266
END:VEVENT
BEGIN:VTIMEZONE
TZID:Europe/Amsterdam
X-LIC-LOCATION:Europe/Amsterdam
BEGIN:STANDARD
DTSTART:20231029T020000
TZOFFSETFROM:+0200
TZOFFSETTO:+0100
TZNAME:CET
END:STANDARD
END:VTIMEZONE
END:VCALENDAR