BEGIN:VCALENDAR
VERSION:2.0
PRODID:-//wp-events-plugin.com//7.2.3.1//EN
TZID:Europe/Amsterdam
X-WR-TIMEZONE:Europe/Amsterdam
BEGIN:VEVENT
UID:1208@duurzaam-ondernemen.nl
DTSTART;TZID=Europe/Amsterdam:20240328T140000
DTEND;TZID=Europe/Amsterdam:20240328T180000
DTSTAMP:20240220T111826Z
URL:https://www.duurzaam-ondernemen.nl/events/the-future-of-corporate-repo
 rting-2024/
SUMMARY:The Future of Corporate Reporting 2024
DESCRIPTION:Intire organiseert de 11de editie van the Future of Corporate R
 eporting. Al meer dan een decennium lang hét evenement voor de finance\, 
 sustainability en corporate reporting professional die voorbereid wil zijn
  op de toekomst van dit vakgebied. Het thema van dit jaar? High Tech of Hi
 gh Touch. Ben je er bij?\nSprekers\nDanny Benima - CFO bij Stedin\n\nIn zi
 jn rol als CFO leidt Danny zowel de financiële als de ESG-functie binnen 
 Stedin. Hij moet dus scherpe keuzes maken. Omdat een goede rapportage en v
 erantwoording daarbij onontbeerlijk zijn\, publiceert Stedin binnenkort de
  nieuwe ESG-strategie\, targets en roadmap. Wat betekent dit voor Stedin e
 n welke dilemma’s bespreekt hij in de boardroom? Op 28 maart krijg je di
 t en meer van hem te horen!\n\nKaren Maas – Wetenschappelijk directeur 
 Impact Centre Erasmus en hoogleraar Accounting &amp\; Sustainability \nK
 aren houdt zich vanuit haar onderzoeken bezig met impact denken en impact 
 meten zodat strategisch invulling kan worden gegeven aan duurzaamheidsambi
 ties. Karen neemt ons tijdens het event mee in de bredere context van CSRD
  en duurzaamheidsverslaggeving en haar onderzoek. Ook zal zij ingaan op he
 t strategische belang van het embedden van duurzaamheid en impact sturing 
 in de planning-en-controlcyclus.\n\nNiels van der Aar – Global Head of
  Sustainability bij Arlanxeo \nArlanxeo is een van 's werelds grootste p
 roducenten van synthetische rubbers. Vanuit zijn technische achtergrond 
 – Niels behaalde een PhD aan de Universiteit Twente en werkte lange tijd
  bij DSM en Lanxess - zal hij zijn praktijkervaringen delen over de CSRD-j
 ourney van Arlanxeo. Ook belicht Niels de samenwerking tussen zijn afdelin
 g en de financiële kolom en neemt hij ons mee in zijn visie en het voor e
 lkaar krijgen van duurzaamheidsambities binnen Arlanxeo.\n\nKosteloos voor
  finance\, sustainability en corporate reporting professionals\n\nGratis a
 anmelden
ATTACH;FMTTYPE=image/jpeg:https://www.duurzaam-ondernemen.nl/wordpress/wp-
 content/uploads/2024/01/TFOCR2024.Intire.banner.png
CATEGORIES:Verslaggeving &amp; Transparantie
LOCATION:Anatomiegebouw\, Bekkerstraat 141\, Utrecht\, 3572 SG\, Nederland
GEO:52.099968;5.134177
X-APPLE-STRUCTURED-LOCATION;VALUE=URI;X-ADDRESS=Bekkerstraat 141\, Utrecht\
 , 3572 SG\, Nederland;X-APPLE-RADIUS=100;X-TITLE=Anatomiegebouw:geo:52.099
 968,5.134177
END:VEVENT
BEGIN:VTIMEZONE
TZID:Europe/Amsterdam
X-LIC-LOCATION:Europe/Amsterdam
BEGIN:STANDARD
DTSTART:20231029T020000
TZOFFSETFROM:+0200
TZOFFSETTO:+0100
TZNAME:CET
END:STANDARD
END:VTIMEZONE
END:VCALENDAR