BEGIN:VCALENDAR
VERSION:2.0
PRODID:-//wp-events-plugin.com//7.2.3.1//EN
TZID:Europe/Amsterdam
X-WR-TIMEZONE:Europe/Amsterdam
BEGIN:VEVENT
UID:1975@duurzaam-ondernemen.nl
DTSTART;TZID=Europe/Amsterdam:20260409T093000
DTEND;TZID=Europe/Amsterdam:20260409T170000
DTSTAMP:20260408T130715Z
URL:https://www.duurzaam-ondernemen.nl/events/sustainability-managers-summ
 it-2026-impact-trade-fair/
SUMMARY:Sustainability Managers Summit 2026 - Impact Trade Fair
DESCRIPTION:Tijdens de Impact Trade Fair wordt op donderdag 9 april 2026 ee
 n speciaal event georganiseerd voor de doelgroep Sustainability Managers (
 CSR Managers\, CSO's\, MVO Managers). In een aparte afgesloten ruimte ('ka
 s') op de beursvloer een speciaal programma waarin de beroepsgroep zich ka
 n in 1 dag kan laten 'bijspijkeren' en inspiratie opdoen.\n\nDe organisati
 e is in handen van Folkert van der Molen (projectleider\, organisatie MVO 
 Manager van het Jaar verkiezing en eigenaar www.duurzaam-ondernemen.nl) en
  duurzaamheidsadviseurs Paul van Ruiten en Bart Brüggenwirth. Allen zijn 
 lid van het ZZP-collectief De Zwerm.\n\nEr is plaats voor 60 deelnemers. T
 icketprijs is € 100 ex btw (inclusief lunch en toegang tot de Impact Tra
 de Fair op 9 april). Wees er snel bij!\nProgramma\nOm 09.30 uur wordt de I
 mpact Trade Fair geopend op het centrale podium. De deelnemers aan de Sust
 ainability Managers Summit nemen hieraan deel. Na afloop van de Sustainabi
 lity Managers Summit zal om 15:30 weer aangesloten worden op het programma
  bij het centrale podium. Daarna zal worden afgesloten wordt met een borre
 l.\n\nDe voertaal van de besloten Sustainability Managers Summit is Nederl
 ands\n\n\n\nAgenda\nOnderwerp\nSprekers\n\n\n09:30 - 10:30\nOp hoofdpodium
  Grand Opening\n\nVerplaatsen naar Kas 8 voor de Summit\n Ben Cohen (co-fo
 under Ben en Jerry’s)\, Nikki Schilling (Rituals)\, Charlie MacGregor (T
 he Social Hub) en Pernille la Lau (presentator)\n\n\n11:00-12:00 uur\nSust
 ainable MBA in One Hour: in één uur ben je weer helemaal bij\, bijgespij
 kerd in de laatste theorieën\, boeken\, inzichten en modellen.\n\n&nbsp\;
 \nPaul van Ruiten (Bureau OM): Gastheer en geeft een presentatie (30 min) 
 van nieuwe inzichten\, modellen en theorieën.\n\nMarije Groen in ‘t Wou
 t (eigenaar Firm of the Future) en Peter van der Reijden (founder We Are R
 obin) geven beiden in 15 min een theorielesje over een belangrijk element 
 uit hun opleiding.\n\n\n12:00-13:30 uur  Lunch (aangeboden door Jaarbeurs
 ) en rondgang over de Impact Trade Fair\n\n\n13:30-14:30 uur\nTrends– ov
 erheid\, markt (consumenten)\, business en economie (Een tour de horizon).
 \nModerator: Paul van Ruiten\n\nHans Stegeman (Hoofdeconoom Triodos Bank e
 n auteur van oa. In 2030) schetst ontwikkelingen in de economie.\n\nBart B
 ruggenwirth (founder B-Open):  De laatste inzichten over het belang van d
 uurzaamheid voor de consument.\n\nKlaasjan Doeswijk (Senior managing consu
 ltant Berenschot): Tends en ontwikkelingen in business (risk management\, 
 rapportage en strategische agenda van Nederlandse bedrijven\n\n\n14:30-15:
 30 uur\nBest practices en leerervaringen in het vak van Sustainability Man
 ager door bevlogen vooraanstaande sustainability managers\n\nAansluitend v
 erplaatsen de sustainability managers naar het hoofdpodium.\nDaniëlle de 
 Jonge (Auteur Planeetaardige Zaken) interviewt sustainability managers ove
 r best practices en praktijkervaringen:\n\n1.Tanja Roeleveld (Head of Sust
 ainability &amp\; Public Affairs Lely\, voorheen Landal) en Anniek Mauser 
 (Head Sustainability VGZ voorheen Unilever Benelux)\n\n2.Marlot Kiveron (S
 ustainability Director Karl Lagerfeld en auteur boek ‘De Impactmissie') 
 en Janneke Leenaars (tot 1-4-2026 Sustainability Manager Northern Europe b
 ij Interface en Director BiomimicryNL)\n\n\n15:30\nVision on Future Proofi
 ng Europe (hoofdpodium)\n Jan Peter Balkenende\, Tom Middendorp\, Kika Buh
 rmann (Marie-Stella-Maris) en Lotte Prins (Jonge Klimaatbeweging)\n\n\n16:
 15\nBorrel bij de bar gesponsord door Dazzle\n \n\n\n\n&nbsp\;
ATTACH;FMTTYPE=image/jpeg:https://www.duurzaam-ondernemen.nl/wordpress/wp-
 content/uploads/2026/01/20260202_post_sustainabilitymanagerssummit_header2
 .png
CATEGORIES:Duurzaamheidsprofessionals
LOCATION:Jaarbeurs\, Jaarbeursplein\, Utrecht\, 3521 AL\, Nederland
GEO:52.090276;5.105317
X-APPLE-STRUCTURED-LOCATION;VALUE=URI;X-ADDRESS=Jaarbeursplein\, Utrecht\, 
 3521 AL\, Nederland;X-APPLE-RADIUS=100;X-TITLE=Jaarbeurs:geo:52.090276,5.1
 05317
END:VEVENT
BEGIN:VTIMEZONE
TZID:Europe/Amsterdam
X-LIC-LOCATION:Europe/Amsterdam
BEGIN:DAYLIGHT
DTSTART:20260329T030000
TZOFFSETFROM:+0100
TZOFFSETTO:+0200
TZNAME:CEST
END:DAYLIGHT
END:VTIMEZONE
END:VCALENDAR