BEGIN:VCALENDAR
VERSION:2.0
PRODID:-//wp-events-plugin.com//7.2.3.1//EN
TZID:Europe/Amsterdam
X-WR-TIMEZONE:Europe/Amsterdam
BEGIN:VEVENT
UID:1952@duurzaam-ondernemen.nl
DTSTART;TZID=Europe/Amsterdam:20260302T100000
DTEND;TZID=Europe/Amsterdam:20260303T170000
DTSTAMP:20260116T112908Z
URL:https://www.duurzaam-ondernemen.nl/events/sustain-2026/
SUMMARY:Sustain 2026
DESCRIPTION:Get Energized at Sustain 2026\n\nSustainability isn’t a cost
 … it’s a competitive advantage.\n\nThe most resilient\, innovative\, a
 nd trusted companies in the world have one thing in common: They see susta
 inability not as an obligation\, but as a strategy. A way to create long-t
 erm value\, build relationships that last\, and win responsibly. It’s ab
 out building strength that endures - across your supply chain\, your partn
 erships\, your people\, and the planet.\n\nAnd in a world of constant disr
 uption–AI reshaping industries\, regulations tightening\, markets shifti
 ng–the companies that integrate sustainability deeply into how they oper
 ate are the ones who adapt faster\, anticipate better\, and earn trust tha
 t money alone can’t buy. They will have a Sustained Advantage.\n\nIn 20
 25\, over 3000 professionals from the world of sustainability\, procuremen
 t\, risk\, compliance\, supply chain and responsible investment attended S
 ustain\, both in person and virtually\, to transform their understanding o
 f supply chain sustainability.\n\nJoin us at Sustain 2026 in Paris or onli
 ne to gain insights\, connect with industry leaders\, and showcase how you
 r solutions can support decision-makers in sustainability\, decarbonizat
 ion\, sustainable procurement\, compliance\, and responsible investment
 . Together\, we can shape a sustainable future.\n\nMore information/regist
 ration
ATTACH;FMTTYPE=image/jpeg:https://www.duurzaam-ondernemen.nl/wordpress/wp-
 content/uploads/2026/01/sustain2026.jpg
CATEGORIES:Duurzaamheidsprofessionals
LOCATION:Online webinar\,  \,  \, Nederland
GEO:52.132633;5.291266
X-APPLE-STRUCTURED-LOCATION;VALUE=URI;X-ADDRESS= \,  \, Nederland;X-APPLE-R
 ADIUS=100;X-TITLE=Online webinar:geo:52.132633,5.291266
END:VEVENT
BEGIN:VTIMEZONE
TZID:Europe/Amsterdam
X-LIC-LOCATION:Europe/Amsterdam
BEGIN:STANDARD
DTSTART:20251026T020000
TZOFFSETFROM:+0200
TZOFFSETTO:+0100
TZNAME:CET
END:STANDARD
END:VTIMEZONE
END:VCALENDAR