BEGIN:VCALENDAR
VERSION:2.0
PRODID:-//wp-events-plugin.com//7.2.3.1//EN
TZID:Europe/Amsterdam
X-WR-TIMEZONE:Europe/Amsterdam
BEGIN:VEVENT
UID:1205@duurzaam-ondernemen.nl
DTSTART;TZID=Europe/Amsterdam:20240311T093000
DTEND;TZID=Europe/Amsterdam:20240312T170000
DTSTAMP:20240122T120924Z
URL:https://www.duurzaam-ondernemen.nl/events/sustain-2024/
SUMMARY:Sustain 2024
DESCRIPTION:In business\, sustainability is no longer just a nice-to-have\,
  it’s an imperative.\n\nIt’s about your business’s ability to do mor
 e than just comply with regulations. It’s about the ability to grow\, to
  invest in your people\, to profit\, to endure times of uncertainty. It is
  about doing all of these things in a way that helps sustain your organiza
 tion long-term.\n\nKnowing where to start\, understanding the challenges t
 hat lie ahead\, and taking action can be daunting. That’s why we invite 
 you to join us at our annual Sustain conference in Paris or online on Mar
 ch 11-12\, 2024 to expand your knowledge\, share best practices and b
 e inspired by leaders and your peers in sustainability\, procurement\, co
 mpliance and responsible investment.\n\nRegister today and secure your pla
 ce among those that are working to make an impact for their businesses\, i
 ndustries\, the planet and society we all share.\n\nMORE DETAILS\nEcoVadis
  Sustainability Achievement Awards\nThe EcoVadis Sustainability Achievemen
 t Awards celebrate excellence and recognize the outstanding accomplishment
 s of companies around the world\, both in forging relationships with their
  trading partners and in their own sustainability performance. Winners wil
 l be announced during Sustain. Learn more
ATTACH;FMTTYPE=image/jpeg:https://www.duurzaam-ondernemen.nl/wordpress/wp-
 content/uploads/2024/01/2022-11-10_Sustain2024_LinkedInPost_1200x667px_EN-
 2.jpg
CATEGORIES:Duurzaamheidsprofessionals
LOCATION:Livestream\, Online\, Online\, Nederland
GEO:52.239608;4.534267
X-APPLE-STRUCTURED-LOCATION;VALUE=URI;X-ADDRESS=Online\, Online\, Nederland
 ;X-APPLE-RADIUS=100;X-TITLE=Livestream:geo:52.239608,4.534267
END:VEVENT
BEGIN:VTIMEZONE
TZID:Europe/Amsterdam
X-LIC-LOCATION:Europe/Amsterdam
BEGIN:STANDARD
DTSTART:20231029T020000
TZOFFSETFROM:+0200
TZOFFSETTO:+0100
TZNAME:CET
END:STANDARD
END:VTIMEZONE
END:VCALENDAR