BEGIN:VCALENDAR
VERSION:2.0
PRODID:-//wp-events-plugin.com//7.2.3.1//EN
TZID:Europe/Amsterdam
X-WR-TIMEZONE:Europe/Amsterdam
BEGIN:VEVENT
UID:1909@duurzaam-ondernemen.nl
DTSTART;TZID=Europe/Amsterdam:20260206T090000
DTEND;TZID=Europe/Amsterdam:20260206T170000
DTSTAMP:20251120T133926Z
URL:https://www.duurzaam-ondernemen.nl/events/start-zesdaagse-opleiding-bi
 omimicry-business-change-manager/
SUMMARY:Start zesdaagse opleiding Biomimicry Business Change Manager
DESCRIPTION:Op vrijdag 6 februari 2026 start in Oosterbeek de zesdaagse opl
 eiding Biomimicry Business Change Manager\, aangeboden door het Biomimicry
  Centre. Leer hoe biomimicry en verandermanagement gecombineerd kunnen wor
 den voor duurzame transformatie binnen organisaties.\n\nVerandering is een
  constante in de natuur. Ecosystemen passen zich voortdurend aan\, werken 
 samen en benutten kansen om te groeien in een dynamische omgeving. Door di
 ezelfde natuurlijke principes toe te passen\, kunnen ook organisaties wend
 baar\, veerkrachtig en toekomstbestendig worden.\n\nTijdens de opleiding w
 erk je aan thema’s als adaptief organiseren\, cultuurverandering en stra
 tegische flexibiliteit\, en krijg je praktische tools aangereikt om duurza
 me transities effectief te begeleiden én te verankeren.\nVoor wie\nDeze o
 pleiding is bedoeld voor verandermanagers\, duurzaamheidsprofessionals\, c
 onsultants\, HR-managers\, projectleiders en strategische besluitvormers d
 ie biomimicry willen inzetten om organisaties adaptiever\, veerkrachtiger 
 en duurzamer te maken. Je wilt actief bijdragen aan transities en systeemv
 eranderingen\, en zoekt methodieken om duurzame principes te integreren in
  cultuur\, structuur en processen.\nPraktische informatie\nLocatie: Ooster
 beek\n\nStartdatum: vrijdag 6 februari 2026\n\nOpleidingsdagen: 5 lesdagen
  + 1 praktijkexamen (t/m 17 april 2026)\n\nDoorlooptijd: 3 maanden\n\nStud
 iebelasting: gemiddeld 3 uur per week zelfstudie\n\nKosten: € 5.520\,- e
 xclusief btw\n\nCertificering: 42 PE-punten\, Cedeo-erkend certificaat Bio
 mimicry Business Change Manager\n\nInclusief: trainingsmateriaal\, certifi
 ceringskosten\, gebruik van de accommodatie\, lunch en koffie/thee\nMeer i
 nformatie en inschrijven\nhttps://biomimicry-centre.com/biomimicry-busines
 s-change-manager
ATTACH;FMTTYPE=image/jpeg:https://www.duurzaam-ondernemen.nl/wordpress/wp-
 content/uploads/2025/11/firm3.jpg
CATEGORIES:Duurzaamheidsprofessionals
LOCATION:Firm of the Future\, Utrechtseweg 263\, Oosterbeek\, 6862 AK\, Ned
 erland
GEO:51.988367;5.81737
X-APPLE-STRUCTURED-LOCATION;VALUE=URI;X-ADDRESS=Utrechtseweg 263\, Oosterbe
 ek\, 6862 AK\, Nederland;X-APPLE-RADIUS=100;X-TITLE=Firm of the Future:geo
 :51.988367,5.81737
END:VEVENT
BEGIN:VTIMEZONE
TZID:Europe/Amsterdam
X-LIC-LOCATION:Europe/Amsterdam
BEGIN:STANDARD
DTSTART:20251026T020000
TZOFFSETFROM:+0200
TZOFFSETTO:+0100
TZNAME:CET
END:STANDARD
END:VTIMEZONE
END:VCALENDAR