BEGIN:VCALENDAR
VERSION:2.0
PRODID:-//wp-events-plugin.com//7.2.3.1//EN
TZID:Europe/Amsterdam
X-WR-TIMEZONE:Europe/Amsterdam
BEGIN:VEVENT
UID:2036@duurzaam-ondernemen.nl
DTSTART;TZID=Europe/Amsterdam:20260521T093000
DTEND;TZID=Europe/Amsterdam:20260521T170000
DTSTAMP:20260320T123055Z
URL:https://www.duurzaam-ondernemen.nl/events/start-verdiepende-idg-sdg-le
 ertraject-persoonlijk-leiderschap-in-tijden-van-transitie/
SUMMARY:Start Verdiepend IDG/SDG leertraject: 'Persoonlijk leiderschap in t
 ijden van transitie'
DESCRIPTION:Leertraject voor professionals die systeemverandering en SDG-im
 pact willen versnellen door het ontwikkelen van innerlijke en co-creatieve
  vaardigheden\n\n“What you do makes a difference\, and you have to decid
 e what kind of difference you want to make.” – Jane Goodall\n\nDe grot
 e transities van deze tijd vragen niet alleen om nieuwe oplossingen\, maar
  ook om nieuwe vaardigheden in onszelf. Organisaties werken overal aan opl
 ossingen voor klimaat\, ongelijkheid en een gezonde samenleving. Maar stee
 ds vaker blijkt: transities stranden niet op gebrek aan plannen of ideeën
 \, maar op samenwerking\, vertrouwen\, verbinding kunnen creëren en het v
 ermogen om met complexiteit om te gaan.\n\nHet verdiepende Inner Developme
 nt Goals (IDG) leertraject Persoonlijk leiderschap in tijden van transitie
  is ontwikkeld om precies die competenties bij professionals uit (middel)g
 rote organisaties te versterken. Deelnemers ontwikkelen impact vaardighede
 n terwijl ze werken aan een eigen project in hun organisatie gerelateerd a
 an de Sustainable Development Goals (SDG’s) of brede welvaart. Het traje
 ct wordt georganiseerd door SDG Nederland en mede mogelijk gemaakt door de
  Goldschmeding Foundation.\n\nJe leert niet alleen de theorie\, maar gaat 
 vooral actief aan de slag met:\n\n 	je persoonlijk leiderschap verdiepen\;
 \n 	de transitievaardigheden (IDG’s) ontwikkelen die nodig zijn voor com
 plexe maatschappelijke transities\, door veel te oefenen\;\n 	toepassing k
 oppelen aan jouw eigen praktijk\, zodat je niet alleen leert\, maar ook ec
 ht impact maakt\;\n 	leren met en van professionals uit verschillende sect
 oren.\n\nVoor wie\n\nJe werkt binnen een (middel)grote organisatie - bijvo
 orbeeld bij een bedrijf\, overheid of onderwijsinstelling - en wil vanuit 
 jouw rol meer bijdragen aan een duurzamere\, gezondere en rechtvaardigere 
 samenleving. Misschien doe je dat vanuit strategie\, innovatie\, duurzaamh
 eid\, inkoop\, HR\, beleid of een heel andere functie. Je hebt het gevoel 
 dat er meer nodig én mogelijk is dan wat er nu gebeurt in jouw organisati
 e\, en dat jij daar zelf een rol in kunt spelen.\n\nTegelijk merk je dat d
 e grootste uitdagingen vaak niet technisch of inhoudelijk zijn\, maar mens
 elijk: verschillende belangen\, onzekerheden\, weerstand\, of het ontbreke
 n van vertrouwen en gezamenlijke richting en taal. Misschien vraag je je s
 oms af: welke rol speel ik zelf in dit geheel\, en hoe kan ik effectiever 
 bijdragen aan verandering? Welke sleutelfiguren in mijn organisatie heb ik
  daar nog meer voor nodig en hoe krijg ik ze mee?\n\nAls dit soort vragen 
 je bezighouden\, dan is dit leertraject voor jou.     \nWat gaan we d
 an precies doen?\n\nTijdens de leergang gaan we in een kleine\, geselectee
 rde groep changemakers aan de slag met:\n\n\n 	Werken aan je transitievaar
 digheden zoals opgenomen in het Inner Development Goals (IDG) raamwerk - d
 e wereldwijd snelst groeiende beweging rondom de innerlijke ontwikkeling d
 ie nodig is om de SDG’s te helpen realiseren\;\n 	Ontdekken waar jouw ci
 rkel van invloed ligt als het gaat om impact maken\, en hoe je die cirkel 
 effectief kan vergroten\;\n 	Leren hoe je (nog) succesvoller aan duurzame 
 en inclusieve veranderingen op systeemniveau (i.e. ‘systeemtransities’
 ) werkt door eerst je eigen systeem beter te leren kennen\;\n 	Naast benoe
 men wat anderen anders zouden moeten doen (zoals je leidinggevende\, de CE
 O\, de marketingafdeling\, HR\, je teamgenoten\, etc.)\, juist vooral je e
 igen patronen en belemmerende overtuigingen onder de loep nemen\;\n 	Leren
  over het butterfly effect (hoe een ogenschijnlijk kleine verandering in j
 ezelf een veel groter extern effect kan hebben dan je voor mogelijk hield)
 .\n\nOphalen van ‘IDGxSDG best practices’ om steeds meer mensen te ins
 pireren\n\nHoewel steeds meer mensen werken aan maatschappelijke transitie
 s\, wordt nog niet altijd gezien hoe innerlijke vaardigheden (ofwel persoo
 nlijk leiderschap) samenhangen met het realiseren van die veranderingen. E
 n vooral: hoe deze vaardigheden helpen om effectiever met complexiteit om 
 te gaan en daadwerkelijk impact te maken. \n\nDoor deel te nemen\, bouw j
 e mee aan een beweging waarin we inzichten ophalen en delen over wat inner
 lijke ontwikkeling kan betekenen voor de SDG’s en systeemverandering. We
  verzamelen en ontwikkelen inspirerende praktijkvoorbeelden\, en vragen jo
 u om daar een actieve bijdrage aan te leveren. Daarmee hopen we een bijdra
 ge te leveren aan sociale innovatie.\n\nWe werken in dit kader samen met e
 en specialist in storytelling en een onderzoeker. De onderzoeker zal na af
 loop van het leertraject een of meer interviews met enkele deelnemers houd
 en. De specialist in storytelling is tijdens de training aanwezig om van d
 e ontwikkeling van de deelnemers te leren. Zo kunnen we straks een breed p
 ubliek op inspirerende wijze laten zien waarom bewuste aandacht voor trans
 itievaardigheden en persoonlijk leiderschap zo belangrijk is bij het werke
 n aan duurzame ontwikkeling.\nData\, locatie en tijdsbesteding\nHet leertr
 aject bestaat uit drie tweedaagse bijeenkomsten in 2026:\n\n\n 	Blok 1: do
 nderdag 21 - vrijdag 22 mei 2026\n 	Blok 2: donderdag 2 - vrijdag 3 juli 2
 026\n\n 	Blok 3: maandag 5 - dinsdag 6 oktober 2026\n\n\nWe komen samen bi
 j De Groene Afslag (Cissy van Marxveldtstraat 1 in Bussum): een inspireren
 de\, duurzame omgeving waar ruimte is voor vertraging\, verdieping en nieu
 we perspectieven. Je wordt verwacht tijdens alle drie de trainingsblokken 
 aanwezig te zijn. Tussen de bijeenkomsten door werk je verder aan je eigen
  praktijk en ontwikkeling\, zodat wat je leert direct doorwerkt in je dage
 lijkse context van impact maken in en met een grote organisatie. Naast de 
 blokken zelf\, bieden we je materiaal voor zelfstudie\, en vormen we inter
 visiegroepen waarin je enkele keren online dan wel live samenkomt. \nKost
 en\nVanuit het maatschappelijke doel en de unieke opzet kunnen we dit leer
 traject aanbieden tegen een fractie van de gebruikelijke commerciële tari
 even. De eigen (organisatie)bijdrage bedraagt €750 (excl. btw). Het voll
 edige traject is inclusief:\n\n 	6 leerdagen (3x 2-daagse)\;\n 	profession
 ele begeleiding vanuit een hoofdtrainer\, verschillende experts en SDG NL\
 ;\n 	begeleiding bij tussentijdse intervisie en wildcard voor persoonlijke
  coaching\;\n 	3 overnachtingen (ieder blok één) in privékamer\; \n 	h
 eerlijke biologische\, plantaardige maaltijden\; en\n 	de Nederlandstalige
  IDG skill finder.\n\nTaal: SDG’s\, Brede Welvaart\, ESG\, you name it\n
 \nIn dit leertraject gebruiken we de Sustainable Development Goals (SDG’
 s) als gemeenschappelijk referentiekader. We realiseren ons dat sommige or
 ganisaties (ook) vanuit andere benaderingen werken\, zoals ESG\, brede wel
 vaart of de donuteconomie. Waar relevant kun je een eigen vertaling maken 
 naar de SDG’s. We gebruiken deze vooral als gedeelde taal.\nCall to acti
 on + deadline inschrijving\n\nWil jij jouw rol in maatschappelijke transit
 ies versterken en actief werken aan je persoonlijk leiderschap? En lijkt h
 et je waardevol om samen met anderen te leren\, reflecteren en experimente
 ren in de praktijk? Dan nodigen we je van harte uit om je aan te melden.\n
 \nMeld je uiterlijk donderdag 2 april 2026 aan via dit formulier. Uiterlij
 k 13 april 2026 hoor je of je bent geselecteerd voor deelname.
ATTACH;FMTTYPE=image/jpeg:https://www.duurzaam-ondernemen.nl/wordpress/wp-
 content/uploads/2026/03/idg_sdg.jpg
CATEGORIES:Duurzaamheidsprofessionals,Sustainable Development Goals
LOCATION:De Groene Afslag\, Cissy van Marxveldtstraat 1\, Bussum\, 1403 VM\
 , Nederland
GEO:52.354689;5.191254
X-APPLE-STRUCTURED-LOCATION;VALUE=URI;X-ADDRESS=Cissy van Marxveldtstraat 1
 \, Bussum\, 1403 VM\, Nederland;X-APPLE-RADIUS=100;X-TITLE=De Groene Afsla
 g:geo:52.354689,5.191254
END:VEVENT
BEGIN:VTIMEZONE
TZID:Europe/Amsterdam
X-LIC-LOCATION:Europe/Amsterdam
BEGIN:DAYLIGHT
DTSTART:20260329T030000
TZOFFSETFROM:+0100
TZOFFSETTO:+0200
TZNAME:CEST
END:DAYLIGHT
END:VTIMEZONE
END:VCALENDAR