BEGIN:VCALENDAR
VERSION:2.0
PRODID:-//wp-events-plugin.com//7.2.3.1//EN
TZID:Europe/Amsterdam
X-WR-TIMEZONE:Europe/Amsterdam
BEGIN:VEVENT
UID:1911@duurzaam-ondernemen.nl
DTSTART;TZID=Europe/Amsterdam:20250206T090000
DTEND;TZID=Europe/Amsterdam:20250206T170000
DTSTAMP:20251120T124729Z
URL:https://www.duurzaam-ondernemen.nl/events/start-van-de-module-wet-rege
 lgeving-jaaropleiding-cso-executive/
SUMMARY:Start van de module Wet- & Regelgeving jaaropleiding CSO Executive
DESCRIPTION:Voor professionals die strategisch willen sturen binnen de kade
 rs van duurzaamheidswetgeving\n\nOp vrijdag 6 februari 2026 start bij NI-a
 cademy de module Wet- &amp\; Regelgeving. Deze module is bedoeld voor erva
 ren beleidsadviseurs\, managers\, directeuren en strategen die duurzaamhei
 d willen verankeren in beleid\, besluitvorming en organisatieontwikkeling.
  Je leert welke wet- en regelgeving op het gebied van duurzaamheid van bel
 ang is\, en hoe je daar op strategisch niveau rekening mee houdt bij het o
 ntwikkelen en uitvoeren van duurzaamheidsbeleid.\nWetgeving als randvoorwa
 arde voor duurzaamheidsbeleid\nEen belangrijke competentie van de moderne 
 Chief Sustainability Officer (CSO) is het op de hoogte blijven van actuele
  wet- en regelgeving en het meenemen van deze kaders in strategische keuze
 s. Dat vraagt om inzicht in regelgevingstrends\, gevoel voor risico’s en
  het vermogen om interne afspraken en beleidslijnen af te stemmen op wette
 lijke verplichtingen.\n\nIn deze module krijg je een helder overzicht van 
 de relevante kaders én leer je hoe je daar in je eigen organisatie effect
 ief op kunt anticiperen.\nPraktische informatie\nJe kunt de module volgen 
 als zelfstandige opleiding of als onderdeel van de jaaropleiding CSO Execu
 tive – een traject binnen de post-hbo-registeropleiding tot Chief Sustai
 nability Officer (CSO).\n\n 	Startdatum: vrijdag 6 februari 2026\n 	Duur: 
 3 maanden\n 	Opleidingsdagen: 5 dagen + 1 examendag (17 april 2026)\n 	Kos
 ten: € 5.250 (excl. btw)\n\nMeer informatie over de module en aanmelden\
 n\n 	ni-academy.nl/wet-en-regelgeving\n 	Meer over de jaaropleiding CSO Ex
 ecutive: ni-academy.nl/cso-executive\n
ATTACH;FMTTYPE=image/jpeg:https://www.duurzaam-ondernemen.nl/wordpress/wp-
 content/uploads/2025/11/firm5.jpg
CATEGORIES:Duurzaamheidsprofessionals
LOCATION:Firm of the Future\, Utrechtseweg 263\, Oosterbeek\, 6862 AK\, Ned
 erland
GEO:51.988367;5.81737
X-APPLE-STRUCTURED-LOCATION;VALUE=URI;X-ADDRESS=Utrechtseweg 263\, Oosterbe
 ek\, 6862 AK\, Nederland;X-APPLE-RADIUS=100;X-TITLE=Firm of the Future:geo
 :51.988367,5.81737
END:VEVENT
BEGIN:VTIMEZONE
TZID:Europe/Amsterdam
X-LIC-LOCATION:Europe/Amsterdam
BEGIN:STANDARD
DTSTART:20241027T020000
TZOFFSETFROM:+0200
TZOFFSETTO:+0100
TZNAME:CET
END:STANDARD
END:VTIMEZONE
END:VCALENDAR