BEGIN:VCALENDAR
VERSION:2.0
PRODID:-//wp-events-plugin.com//7.2.3.1//EN
TZID:Europe/Amsterdam
X-WR-TIMEZONE:Europe/Amsterdam
BEGIN:VEVENT
UID:1931@duurzaam-ondernemen.nl
DTSTART;TZID=Europe/Amsterdam:20260130T090000
DTEND;TZID=Europe/Amsterdam:20260130T170000
DTSTAMP:20251209T075733Z
URL:https://www.duurzaam-ondernemen.nl/events/start-van-de-module-ni-busin
 essmodel/
SUMMARY:Start van de module NI-Businessmodel
DESCRIPTION:Voor professionals die duurzame waardecreatie willen verankeren
  in strategie\, structuur en bedrijfsvoering\n\nOp vrijdag 30 januari 2026
  start bij NI-academy de module NI-Businessmodel. Deze module is ontwikkel
 d voor strategen\, managers\, directeuren\, business developers en beleids
 professionals die duurzame waardecreatie centraal willen stellen in hun or
 ganisatie. Je leert hoe het NI-Businessmodel is opgebouwd\, hoe de princip
 es van Nature’s Intelligence worden vertaald naar strategische keuzes en
  hoe je deze keuzes verankert in processen\, producten en organisatieontwi
 kkeling.\nDuurzame waardecreatie als fundament voor strategie\nHet NI-Busi
 nessmodel helpt organisaties om op een samenhangende manier te werken aan 
 toekomstbestendige waardecreatie. Het model biedt een integrale benadering
  van strategie\, innovatie en bedrijfsvoering\, gebaseerd op natuurlijke p
 rincipes die sturen op adaptiviteit\, veerkracht\, samenwerking en lange t
 ermijnwaarde. Deze module geeft je inzicht in de logica van het model en l
 eert je hoe je het effectief inzet in strategische trajecten\, veranderopg
 aven en innovatieprocessen.\n\nEen belangrijke competentie van de moderne 
 Chief Sustainability Officer is het verbinden van duurzaamheidsdoelen met 
 organisatorische keuzes en het creëren van een helder raamwerk voor beslu
 itvorming. De module ondersteunt dit door je te leren hoe je het NI-Busine
 ssmodel toepast in je eigen organisatie en hoe je collega’s en stakehold
 ers meeneemt in de bijbehorende veranderopgave.\nPraktische informatie\nJe
  kunt de module volgen als zelfstandige opleiding of als onderdeel van de 
 jaaropleiding CSO Executive\, een traject binnen de post-hbo-registeroplei
 ding tot Chief Sustainability Officer.\n\n 	Startdatum: vrijdag 30 januari
  2026\n 	Duur: 3 maanden\n 	Opleidingsdagen: 5 dagen en 1 examendag (10 ap
 ril 2026)\n 	Kosten: 5.250 euro exclusief btw\n\nMeer informatie over de m
 odule en aanmelden\n\n 	ni-academy.nl/ni-businessmodel\n 	Meer over de jaa
 ropleiding CSO Executive: ni-academy.nl/cso-executive\n
ATTACH;FMTTYPE=image/jpeg:https://www.duurzaam-ondernemen.nl/wordpress/wp-
 content/uploads/2025/12/t1sam.jpg
CATEGORIES:Duurzaamheidsprofessionals
LOCATION:Firm of the Future\, Utrechtseweg 263\, Oosterbeek\, 6862 AK\, Ned
 erland
GEO:51.988367;5.81737
X-APPLE-STRUCTURED-LOCATION;VALUE=URI;X-ADDRESS=Utrechtseweg 263\, Oosterbe
 ek\, 6862 AK\, Nederland;X-APPLE-RADIUS=100;X-TITLE=Firm of the Future:geo
 :51.988367,5.81737
END:VEVENT
BEGIN:VTIMEZONE
TZID:Europe/Amsterdam
X-LIC-LOCATION:Europe/Amsterdam
BEGIN:STANDARD
DTSTART:20251026T020000
TZOFFSETFROM:+0200
TZOFFSETTO:+0100
TZNAME:CET
END:STANDARD
END:VTIMEZONE
END:VCALENDAR