BEGIN:VCALENDAR
VERSION:2.0
PRODID:-//wp-events-plugin.com//7.2.3.1//EN
TZID:Europe/Amsterdam
X-WR-TIMEZONE:Europe/Amsterdam
BEGIN:VEVENT
UID:1908@duurzaam-ondernemen.nl
DTSTART;TZID=Europe/Amsterdam:20260130T090000
DTEND;TZID=Europe/Amsterdam:20260130T170000
DTSTAMP:20251120T133802Z
URL:https://www.duurzaam-ondernemen.nl/events/start-post-hbo-registeroplei
 ding-chief-sustainability-officer-cso/
SUMMARY:Start post-hbo registeropleiding Chief Sustainability Officer (CSO)
DESCRIPTION:Op vrijdag 30 januari start de nieuwe editie van de post-hbo-re
 gisteropleiding tot Chief Sustainability Officer (CSO). Dit is de enige er
 kende registeropleiding op post-hbo-niveau voor CSO’s in Nederland. Na a
 fronding word je officieel opgenomen in het landelijke post-hbo-diplomareg
 ister.\nWaarom meedoen?\nSteeds meer organisaties zoeken professionals die
  duurzaamheid kunnen verankeren in beleid én praktijk. Deze opleiding hel
 pt je om die rol professioneel en overtuigend te vervullen. Je krijgt prak
 tische tools aangereikt die je direct kunt toepassen in je werk.\n\nDe opl
 eiding is opgebouwd rondom de kerncompetenties van de moderne CSO. Je leer
 t onder meer hoe je wet- en regelgeving vertaalt naar concrete actie\, hoe
  je ESG-monitoring en rapportages opzet\, en hoe je duurzame innovatieproj
 ecten leidt. Daarnaast ontwikkel je vaardigheden om collega’s en stakeho
 lders te betrekken\, cultuurverandering te stimuleren en duurzaamheid stru
 ctureel in te bedden in de besluitvorming van je organisatie.\nPraktijkger
 icht en direct toepasbaar\nIn de opleiding staat de praktijk centraal. Je 
 werkt met herkenbare casussen\, concrete modellen en direct toepasbare met
 hoden. Wat je leert\, kun je meteen inzetten in je eigen werkomgeving.\nOp
 bouw van de opleiding\nDe registeropleiding bestaat uit twee jaaropleiding
 en: CSO Manager en CSO Executive. Je kunt starten met CSO Manager en daarn
 a doorgaan met CSO Executive. Heb je al voldoende ervaring en een passende
  vooropleiding? Dan kun je direct instromen in het tweede deel.\nFlexibele
  invulling\nDe registeropleiding is flexibel ingericht. De jaaropleidingen
  CSO Manager en CSO Executive bestaan elk uit drie modules. Je kunt bij de
  start van een module instromen in de jaaropleiding.  Voor CSO Executive 
 is de eerstvolgende startmogelijkheid 30 januari 2026. Je start dan met de
  module NI-Businessmodel. Voor CSO Manager is de eerstvolgende startdatum 
 13 februari 2026. Dan begint de module Compliance &amp\; Reporting.\n\nVan
 wege de flexibele invulling zijn er drie examenmogelijkheden per jaar. In 
 2026 zijn de examendata voor CSO Executive en CSO Manager: 17 april\, 10 j
 uli en 11 december.\nCSO Manager\nDe opleiding tot CSO Manager is bedoeld 
 voor professionals die binnen hun organisatie duurzaamheid willen versnell
 en vanuit de praktijk. Je leert hoe je duurzaamheidsdoelstellingen vertaal
 t naar werkbare processen\, beleid en communicatie. Je verbindt visie met 
 uitvoering en bent de schakel tussen strategie\, operatie en rapportage.\n
 \nJe volgt drie praktijkgerichte modules:\n\n 	Compliance &amp\; Reporting
 \n\nESG-wetgeving\, richtlijnen (zoals GRI en ESRS)\, en het opstellen van
  onderbouwde duurzaamheidsverslagen. Ook aandacht voor dataverzameling en 
 interne controle.\n\n 	Circulair Innoveren en Ontwerpen\n\nPraktische toep
 assing van circulaire principes in processen\, producten en projecten. Je 
 leert werken met businessmodellen en ontwerpstrategieën die hergebruik\, 
 materiaalreductie en systeemdenken centraal stellen.\n\n 	Manager of the F
 uture\n\nDuurzaam leiderschap\, verandermanagement en het bouwen aan een o
 rganisatiecultuur die ruimte geeft aan lange termijn-denken\, samenwerking
  en impact.\n\nDeze opleiding is geschikt voor (young) professionals\, tea
 mleiders\, projectmanagers en beleidsmedewerkers die duurzaamheid willen a
 anjagen vanuit de praktijk.\n\nDuur: 1 studiejaar\n\nStartdatum: 13 februa
 ri 2026\n\nInvestering: € 15.200\,- (excl. btw)\n\nDe modules zijn ook l
 os te volgen voor € 5.250\,- per module (excl. btw).\nCSO Executive\nDe 
 opleiding tot CSO Executive is bedoeld voor professionals die verantwoorde
 lijk zijn voor het aansturen\, verankeren en richting geven aan duurzaamhe
 id binnen hun organisatie. Je leert werken met strategische instrumenten e
 n systemische benaderingen waarmee je de lange termijn duurzaamheidsdoelen
  van de organisatie waarmaakt.\n\nJe volgt drie verdiepende modules:\n\n 	
 Wet- &amp\; Regelgeving\n\nInzicht in veranderende wetgeving\, bestuurlijk
 e verantwoordelijkheid en juridische positionering van duurzaamheidsbeleid
 . Met aandacht voor CSRD/ESRS\, zorgplichten\, aansprakelijkheid en govern
 ance.\n\n 	NI-Businessmodel\n\nToepassing van het Nature’s Intelligence 
 Businessmodel om organisaties in te richten op basis van natuurlijke princ
 ipes. Inclusief systeemdenken\, veerkracht\, samenwerking en duurzame waar
 decreatie.\n\n 	Transitiemanagement\n\nStrategievorming\, veranderkracht e
 n besluitvorming in complexe context. Je leert sturen op impact\, omgaan m
 et spanningsvelden en duurzame innovatie verbinden aan organisatieontwikke
 ling.\n\nCSO Executive is bedoeld voor ervaren beleidsadviseurs\, managers
 \, directeuren en strategen die duurzaamheid tot kernonderdeel willen make
 n van beleid\, besluitvorming en bestuur.\n\nDuur: 1 studiejaar\n\nStartda
 tum: 30 januari 2026\n\nInvestering: € 15.200\,- (excl. btw)\n\nDe modul
 es zijn ook los te volgen voor € 5.250\,- per module (excl. btw)\nErkend
  post-hbo diploma\nNa afronding van beide trajecten ontvang je het erkend 
 post-hbo-diploma Registeropleiding Chief Sustainability Officer\, geaccred
 iteerd en erkend voor opname in het CPION-register. Daarmee bewijs je dat 
 je voldoet aan de hoogste standaard voor duurzaamheidsprofessionals in Ned
 erland.\nVrijstelling mogelijk\nHeb je een afgeronde hbo+ opleiding en min
 stens twee jaar ervaring in dit vakgebied? Dan kun je mogelijk vrijstellin
 g krijgen voor het eerste deel (CSO Manager) en direct instromen in CSO Ex
 ecutive.\nMeer informatie\nGa naar ni-academy.nl/registeropleiding-cso voo
 r meer informatie en het volledige programma.\n\n&nbsp\;
ATTACH;FMTTYPE=image/jpeg:https://www.duurzaam-ondernemen.nl/wordpress/wp-
 content/uploads/2025/11/firm2.jpg
CATEGORIES:Duurzaamheidsprofessionals
LOCATION:Firm of the Future\, Utrechtseweg 263\, Oosterbeek\, 6862 AK\, Ned
 erland
GEO:51.988367;5.81737
X-APPLE-STRUCTURED-LOCATION;VALUE=URI;X-ADDRESS=Utrechtseweg 263\, Oosterbe
 ek\, 6862 AK\, Nederland;X-APPLE-RADIUS=100;X-TITLE=Firm of the Future:geo
 :51.988367,5.81737
END:VEVENT
BEGIN:VTIMEZONE
TZID:Europe/Amsterdam
X-LIC-LOCATION:Europe/Amsterdam
BEGIN:STANDARD
DTSTART:20251026T020000
TZOFFSETFROM:+0200
TZOFFSETTO:+0100
TZNAME:CET
END:STANDARD
END:VTIMEZONE
END:VCALENDAR