BEGIN:VCALENDAR
VERSION:2.0
PRODID:-//wp-events-plugin.com//7.2.3.1//EN
TZID:Europe/Amsterdam
X-WR-TIMEZONE:Europe/Amsterdam
BEGIN:VEVENT
UID:2001@duurzaam-ondernemen.nl
DTSTART;TZID=Europe/Amsterdam:20260501T090000
DTEND;TZID=Europe/Amsterdam:20260501T170000
DTSTAMP:20260218T083623Z
URL:https://www.duurzaam-ondernemen.nl/events/start-opleiding-lca-footprin
 t-analyse-2/
SUMMARY:Start opleiding LCA & Footprint Analyse
DESCRIPTION:Organisaties staan voor de uitdaging om duurzame ambities om te
  zetten in meetbare resultaten. Dat vraagt om betrouwbare data\, scherpe a
 nalyses en de vaardigheid om impactinformatie overtuigend in te zetten in 
 strategie en besluitvorming.\n\nDuurzaamheidsvraagstukken vragen steeds va
 ker om professionals die milieu-impact niet alleen kunnen benoemen\, maar 
 ook daadwerkelijk kunnen meten\, onderbouwen en vertalen naar concrete keu
 zes.\n\nOnze opleiding LCA &amp\; Footprint Analyse leidt u in 6 opleiding
 sdagen op tot gecertificeerd expert in het professioneel uitvoeren en inte
 rpreteren van Life Cycle Assessments en CO₂-footprints. Deze internation
 aal erkende methodieken maken het mogelijk om de milieu-impact van product
 en\, diensten en organisaties systematisch en objectief in kaart te brenge
 n\, over de volledige levenscyclus.\n\nBinnen de opleiding staan drie kern
 principes centraal: meten\, analyseren en sturen. U leert impact kwantitat
 ief en reproduceerbaar vast te leggen\, resultaten te duiden en te vergeli
 jken\, en deze inzichten te gebruiken voor gerichte reductie en duurzame b
 esluitvorming. Juist in een tijd waarin waardeketens complexer worden en E
 SG-doelen steeds belangrijker zijn\, vormt impactanalyse een onmisbaar ins
 trument.\n\nDe opleiding combineert theorie en praktijk. U krijgt inzicht 
 in footprintmethodieken\, LCA-principes en de interpretatie van resultaten
 . In praktijksessies werkt u met berekeningen\, aannames en scenario-analy
 ses. Een belangrijk onderdeel is het uitwerken van een eigen praktijkcase\
 , gebaseerd op uw organisatie of werkpraktijk. Zo leert u hoe u impactdata
  vertaalt naar rapportage\, strategie en sturing.\n\nNa succesvolle afrond
 ing bent u gecertificeerd in LCA &amp\; Footprint Analyse en kunt u milieu
 -impact professioneel meten\, analyses onderbouwen en organisaties onderst
 eunen bij duurzame keuzes en besluitvorming.\n\nDe opleiding is bedoeld vo
 or professionals die werken met duurzaamheid\, ESG\, finance\, inkoop of s
 trategie\, en die verantwoordelijk zijn voor het meten\, analyseren of rap
 porteren van milieu-impact.\n\nDe opleiding heeft een doorlooptijd van dri
 e maanden en bestaat uit 5 theoriedagen en 1 praktijkdag (examen).\nProgra
 mma\nHet programma ziet er als volgt uit:\n\nDag 1: 1 mei 2026\n\nIntroduc
 tie footprint &amp\; LCA-denken: impact en methodieken.\n\nDag 2: 15 mei 2
 026\n\nCO2-footprint &amp\; GHG-Protocol: Scope 1\, 2 en 3\, dataverzameli
 ng en berekeningen.\n\nDag 3: 29 mei 2026\nLife Cycle Assessment (methodie
 k): Doel en scope\, systeemgrenzen en Life Cycle Inventory (LCI).\n\nDag 4
 : 12 juni 2026\nLCA-berekeningen &amp\; interpretatie: impactcategorieën\
 , MKI\, scenario’s en onzekerheden.\n\nDag 5: 26 juni 2026\n\nVan analys
 e naar sturing: reductiestrategieën\, rapportage en besluitvorming.\n\nDa
 g 6: 10 juli 2026\n\nPraktijkexamen.\nPraktische info\nStartdatum &amp\; l
 ocatie: 1 mei 2026 in ons koetshuis in de bossen van Oosterbeek.\n\nDe inv
 estering voor deelname bedraagt € 5.250\,- excl. btw. Dit is inclusief t
 rainingsmateriaal\, certificeringskosten\, accommodatie en uitgebreide cat
 ering. Wij zijn een CEDEO-erkende opleidingsinstantie en reiken PE-punten 
 uit (42).\n\nWilt u beter kunnen sturen op basis van impactdata? Dan biedt
  deze opleiding u de kennis en vaardigheden om milieu-impact meetbaar\, ve
 rgelijkbaar en strategisch inzetbaar te maken.\nInschrijven\nInschrijven k
 an via: https://biomimicry-centre.com/inschrijven-opleiding/\n\nWilt u mee
 r informatie? Bel 026-2136550 of stuur een bericht naar docent Marije Groe
 n in 't Wout: m.groenintwout@biomimicry-centre.com\n\n&nbsp\;
ATTACH;FMTTYPE=image/jpeg:https://www.duurzaam-ondernemen.nl/wordpress/wp-
 content/uploads/2026/02/BC-banner-LCA-start-1-mei-26.png
CATEGORIES:Verslaggeving &amp; Transparantie
LOCATION:Firm of the Future\, Utrechtseweg 263\, Oosterbeek\, 6862 AK\, Ned
 erland
GEO:51.988367;5.81737
X-APPLE-STRUCTURED-LOCATION;VALUE=URI;X-ADDRESS=Utrechtseweg 263\, Oosterbe
 ek\, 6862 AK\, Nederland;X-APPLE-RADIUS=100;X-TITLE=Firm of the Future:geo
 :51.988367,5.81737
END:VEVENT
BEGIN:VTIMEZONE
TZID:Europe/Amsterdam
X-LIC-LOCATION:Europe/Amsterdam
BEGIN:DAYLIGHT
DTSTART:20260329T030000
TZOFFSETFROM:+0100
TZOFFSETTO:+0200
TZNAME:CEST
END:DAYLIGHT
END:VTIMEZONE
END:VCALENDAR