BEGIN:VCALENDAR
VERSION:2.0
PRODID:-//wp-events-plugin.com//7.2.3.1//EN
TZID:Europe/Amsterdam
X-WR-TIMEZONE:Europe/Amsterdam
BEGIN:VEVENT
UID:1307@duurzaam-ondernemen.nl
DTSTART;TZID=Europe/Amsterdam:20241003T093000
DTEND;TZID=Europe/Amsterdam:20241003T170000
DTSTAMP:20240409T061653Z
URL:https://www.duurzaam-ondernemen.nl/events/start-opleiding-duurzame-ene
 rgieprojecten/
SUMMARY:Start Opleiding Duurzame Energieprojecten
DESCRIPTION:Boost je duurzame energieproject!\nOm de ambitieuze doelstellin
 gen voor het verduurzamen van onze energievoorziening te halen hebben we s
 uccesvolle energieprojecten nodig. Een grote opgave waarbij van jou verla
 ngd wordt dat je de juiste keuzes kunt maken.\nDe opleiding Duurzame Energ
 ieprojecten biedt alles: technologieën\, trends\, beleid en meer. Speciaa
 l voor iedereen die gaat starten of al betrokken is bij een project op het
  gebied van duurzame energie\, hebben wij deze opleiding samengesteld.\nNa
  afronding van deze opleiding beschik je over de essentiële kennis en too
 ls om jouw duurzame energieprojecten naar een hoger niveau te tillen. Begr
 ijp wat jouw projecten succesvol maakt en hoe je deze inzichten toepast in
  je eigen praktijk.\nKlaar om een verschil te maken?\n\nJe leert alles ove
 r\n\n 	technologie\, trends\, kaders en beleid\n 	flexibiliteit in het ene
 rgielandschap en de rol van energieopslag\n 	inpassing van je project in d
 e omgeving\n 	de haalbaarheid van je project en een succesvolle business c
 ase\n 	samenwerking met andere stakeholders\n 	het creëren van draagvlak\
 n 	warmte\, wind en zon\, verdiep je kennis in de modules over specifieke 
 thema’s\n\nNa de opleiding weet je wat het betekent voor jouw eigen prak
 tijk en hoe je het toepast zodat je projecten succesvol worden!\nWat houdt
  de opleiding Duurzame Energieprojecten in?\nVan gerenommeerde experts uit
  de markt leer je tijdens deze opleiding inzicht te krijgen in de plannin
 g en uitvoering van duurzame energieprojecten. De opleiding is praktisch
  ingestoken. Dit betekent dat de docenten je op de hoogte brengen van hun 
 visie en kennis uit de praktijk. Middels business cases ga je vervolgens z
 elf aan de slag. Wij nodigen je van harte uit om de discussie met de docen
 ten en de overige deelnemers aan te gaan om zo gezamenlijk nieuwe inzicht
 en en ideeën te creëren.\nVolledig op maat gemaakt\nJe kunt je kennis ve
 rdiepen in de modules over de specifieke thema’s:\n\n 	Warmte en energie
 besparing\n 	Zonne-energie\n 	Windenergie\n\nDeze opleiding is onmisbaar o
 m de juiste keuzes te maken en als volwaardige gesprekspartner met alle pa
 rtijen aan tafel te gaan!\nMeer informatie/aanmelden
ATTACH;FMTTYPE=image/jpeg:https://www.duurzaam-ondernemen.nl/wordpress/wp-
 content/uploads/2024/04/72592-BANNERS.png
CATEGORIES:Klimaat en Energie
LOCATION:BCN Utrecht CS\, Catharijnesingel 48\, Utrecht\, Nederland\, 3511 
 GC\, Nederland
GEO:52.089998;5.113748
X-APPLE-STRUCTURED-LOCATION;VALUE=URI;X-ADDRESS=Catharijnesingel 48\, Utrec
 ht\, Nederland\, 3511 GC\, Nederland;X-APPLE-RADIUS=100;X-TITLE=BCN Utrech
 t CS:geo:52.089998,5.113748
END:VEVENT
BEGIN:VTIMEZONE
TZID:Europe/Amsterdam
X-LIC-LOCATION:Europe/Amsterdam
BEGIN:DAYLIGHT
DTSTART:20240331T030000
TZOFFSETFROM:+0100
TZOFFSETTO:+0200
TZNAME:CEST
END:DAYLIGHT
END:VTIMEZONE
END:VCALENDAR