BEGIN:VCALENDAR
VERSION:2.0
PRODID:-//wp-events-plugin.com//7.2.3.1//EN
TZID:Europe/Amsterdam
X-WR-TIMEZONE:Europe/Amsterdam
BEGIN:VEVENT
UID:1999@duurzaam-ondernemen.nl
DTSTART;TZID=Europe/Amsterdam:20260424T090000
DTEND;TZID=Europe/Amsterdam:20260424T170000
DTSTAMP:20260218T083700Z
URL:https://www.duurzaam-ondernemen.nl/events/start-module-transitiemanage
 ment-bij-ni-academy/
SUMMARY:Start module Transitiemanagement bij NI-Academy
DESCRIPTION:Op vrijdag 24 april 2026 start binnen de NI-academy de zesdaags
 e module Transitiemanagement. Deze module is ontwikkeld voor professionals
  die effectief leiding willen geven aan duurzame transities binnen hun org
 anisatie. U ontwikkelt strategisch inzicht in veranderprocessen\, leert om
 gaan met weerstand en versterkt uw leiderschapsvaardigheden in tijden van 
 complexe verandering.\n\nDuurzame transities vragen om richting\, visie en
  doorzettingsvermogen. Organisaties bevinden zich in een dynamische omgevi
 ng waarin duurzaamheid\, innovatie en cultuurverandering hand in hand gaan
 . De module combineert veranderkunde\, leiderschapsontwikkeling en stakeho
 ldermanagement met praktijkgerichte toepassingen. Door middel van interact
 ieve sessies\, casuïstiek en concrete praktijkvoorbeelden past u de opged
 ane kennis direct toe binnen uw eigen werkomgeving. Na afronding bent u in
  staat duurzame veranderingen effectief te implementeren\, met oog voor or
 ganisatiecultuur én kansen voor innovatieve groei.\nVoor wie\nDeze module
  is bedoeld voor professionals die verantwoordelijk zijn voor of betrokken
  zijn bij verander- en duurzaamheidsvraagstukken binnen hun organisatie. H
 et programma sluit aan bij managers\, programmaleiders\, duurzaamheidscoö
 rdinatoren\, consultants\, projectleiders en (aankomende) Chief Sustainabi
 lity Officers die hun strategische veranderkracht willen versterken.\nDagi
 ndeling en inhoud\nLesdag 1: 24 april 2026\n\nVeranderkunde en transities\
 n\nLesdag 2: 8 mei 2026\n\nLeiderschap en veerkracht\n\nLesdag 3: 22 mei 2
 026\n\nCultuuraspecten\, samenwerken en weerstand\n\nLesdag 4: 5 juni 2026
 \n\nTrends en procesveranderingen\n\nLesdag 5: 19 juni 2026\n\nStakeholder
 management\, participatie en communicatie\n\nLesdag 6: 3 juli 2026\n\nPrak
 tijkexamen\nPraktische informatie\nLocatie: Oosterbeek\n\nStartdatum: vrij
 dag 24 april 2026\n\nOpleidingsdagen: 6 lesdagen inclusief praktijkexamen 
 (3 juli 2026)\n\nDoorlooptijd: 3 maanden\n\nStudiebelasting: 3 uur per wee
 k\n\nKosten: € 5.250 euro exclusief btw\n\nInclusief: trainingsmateriaal
 \, praktijkcasuïstiek\, certificering en begeleiding\nMeer informatie en 
 inschrijven\nhttps://ni-academy.nl/transitiemanagement/\n\nPost-hbo regist
 eropleiding\n\nDeze module maakt deel uit van de jaaropleiding CSO Executi
 ve\, die samen met de jaaropleiding CSO Manager de post-hbo registeropleid
 ing tot Chief Sustainability Officer vormt. Meer informatie over deze regi
 steropleiding vindt u op: https://ni-academy.nl/cso-executive/
ATTACH;FMTTYPE=image/jpeg:https://www.duurzaam-ondernemen.nl/wordpress/wp-
 content/uploads/2026/02/NI-banners-digitaal-Transitiemanagement-start-24-a
 pril-2026-.png
CATEGORIES:Duurzaamheidsprofessionals
LOCATION:Firm of the Future\, Utrechtseweg 263\, Oosterbeek\, 6862 AK\, Ned
 erland
GEO:51.988367;5.81737
X-APPLE-STRUCTURED-LOCATION;VALUE=URI;X-ADDRESS=Utrechtseweg 263\, Oosterbe
 ek\, 6862 AK\, Nederland;X-APPLE-RADIUS=100;X-TITLE=Firm of the Future:geo
 :51.988367,5.81737
END:VEVENT
BEGIN:VTIMEZONE
TZID:Europe/Amsterdam
X-LIC-LOCATION:Europe/Amsterdam
BEGIN:DAYLIGHT
DTSTART:20260329T030000
TZOFFSETFROM:+0100
TZOFFSETTO:+0200
TZNAME:CEST
END:DAYLIGHT
END:VTIMEZONE
END:VCALENDAR