BEGIN:VCALENDAR
VERSION:2.0
PRODID:-//wp-events-plugin.com//7.2.3.1//EN
TZID:Europe/Amsterdam
X-WR-TIMEZONE:Europe/Amsterdam
BEGIN:VEVENT
UID:1910@duurzaam-ondernemen.nl
DTSTART;TZID=Europe/Amsterdam:20260213T090000
DTEND;TZID=Europe/Amsterdam:20260213T170000
DTSTAMP:20251120T131648Z
URL:https://www.duurzaam-ondernemen.nl/events/start-module-compliance-repo
 rting-bij-ni-academy/
SUMMARY:Start module Compliance & Reporting bij NI-academy
DESCRIPTION:Op vrijdag 13 februari 2026 start binnen de NI-academy de zesda
 agse module Compliance &amp\; Reporting. Deze module is ontwikkeld voor pr
 ofessionals die zich willen specialiseren in het opstellen van gestructure
 erde en betrouwbare duurzaamheidsrapportages. U werkt aan diepgaand inzich
 t in actuele regelgeving\, zoals de Corporate Sustainability Reporting Dir
 ective en de EU-taxonomie\, en leert hoe u rapportages ontwikkelt die vold
 oen aan wettelijke vereisten en bijdragen aan strategische besluitvorming 
 binnen uw organisatie.\n\nDuurzaamheidsrapportage is een essentieel onderd
 eel van toekomstgericht ondernemen. Organisaties staan voor een toenemende
  verantwoordelijkheid om transparant te rapporteren over hun impact\, risi
 co’s en kansen. De module biedt een combinatie van theorie\, casuïstiek
  en toegepaste oefeningen\, waardoor u de opgedane kennis direct kunt toep
 assen binnen uw eigen werkomgeving. U leert hoe u duurzaamheidsdata verzam
 elt en analyseert\, hoe u stakeholders effectief betrekt en hoe u een gove
 rnance-structuur opzet die zorgt voor naleving en verantwoording.\nVoor wi
 e\nDeze module is bedoeld voor professionals die verantwoordelijk zijn voo
 r duurzaamheidsrapportage of compliance binnen hun organisatie. Het progra
 mma sluit aan bij duurzaamheidscoördinatoren\, compliance officers\, anal
 isten\, projectleiders\, consultants en managers die hun expertise willen 
 verdiepen op het gebied van wet- en regelgeving\, dataverzameling\, govern
 ance en verslaglegging.\nPraktische informatie\nLocatie: Oosterbeek\n\nSta
 rtdatum: vrijdag 13 februari 2026\n\nOpleidingsdagen: 6 lesdagen inclusief
  praktijkexamen (24 april 2026)\n\nDoorlooptijd: 3 maanden\n\nStudiebelast
 ing: 3 uur per week\n\nKosten: € 5.250 euro exclusief btw\n\nInclusief: 
 trainingsmateriaal\, praktijkcasuïstiek\, certificering en begeleiding\nM
 eer informatie en inschrijven\nhttps://ni-academy.nl/compliance-and-report
 ing/\n\nPost-hbo registeropleiding\n\nDeze module maakt deel uit van de ja
 aropleiding CSO Manager\, die samen met de jaaropleiding CSO Executive de 
 post-hbo registeropleiding tot Chief Sustainability Officer vormt. Meer in
 formatie over deze registeropleiding vindt u hier!
ATTACH;FMTTYPE=image/jpeg:https://www.duurzaam-ondernemen.nl/wordpress/wp-
 content/uploads/2025/11/firm4.jpg
CATEGORIES:Verslaggeving &amp; Transparantie
LOCATION:Firm of the Future\, Utrechtseweg 263\, Oosterbeek\, 6862 AK\, Ned
 erland
GEO:51.988367;5.81737
X-APPLE-STRUCTURED-LOCATION;VALUE=URI;X-ADDRESS=Utrechtseweg 263\, Oosterbe
 ek\, 6862 AK\, Nederland;X-APPLE-RADIUS=100;X-TITLE=Firm of the Future:geo
 :51.988367,5.81737
END:VEVENT
BEGIN:VTIMEZONE
TZID:Europe/Amsterdam
X-LIC-LOCATION:Europe/Amsterdam
BEGIN:STANDARD
DTSTART:20251026T020000
TZOFFSETFROM:+0200
TZOFFSETTO:+0100
TZNAME:CET
END:STANDARD
END:VTIMEZONE
END:VCALENDAR