BEGIN:VCALENDAR
VERSION:2.0
PRODID:-//wp-events-plugin.com//7.2.3.1//EN
TZID:Europe/Amsterdam
X-WR-TIMEZONE:Europe/Amsterdam
BEGIN:VEVENT
UID:2000@duurzaam-ondernemen.nl
DTSTART;TZID=Europe/Amsterdam:20260501T090000
DTEND;TZID=Europe/Amsterdam:20260501T170000
DTSTAMP:20260218T083642Z
URL:https://www.duurzaam-ondernemen.nl/events/start-module-compliance-repo
 rting-bij-ni-academy-2/
SUMMARY:Start module Compliance & Reporting bij NI-academy
DESCRIPTION:Op vrijdag 1 mei 2026 start binnen de NI-academy de zesdaagse m
 odule Compliance &amp\; Reporting. Deze module is ontwikkeld voor professi
 onals die zich willen specialiseren in het opstellen van gestructureerde e
 n betrouwbare duurzaamheidsrapportages. U werkt aan diepgaand inzicht in a
 ctuele regelgeving\, zoals de Corporate Sustainability Reporting Directive
  en de EU-taxonomie\, en leert hoe u rapportages ontwikkelt die voldoen aa
 n wettelijke vereisten en bijdragen aan strategische besluitvorming binnen
  uw organisatie.\n\nDuurzaamheidsrapportage is een essentieel onderdeel va
 n toekomstgericht ondernemen. Organisaties staan voor een toenemende veran
 twoordelijkheid om transparant te rapporteren over hun impact\, risico’s
  en kansen. De module biedt een combinatie van theorie\, casuïstiek en to
 egepaste oefeningen\, waardoor u de opgedane kennis direct kunt toepassen 
 binnen uw eigen werkomgeving. U leert hoe u duurzaamheidsdata verzamelt en
  analyseert\, hoe u stakeholders effectief betrekt en hoe u een governance
 -structuur opzet die zorgt voor naleving en verantwoording.\nVoor wie\nDez
 e module is bedoeld voor professionals die verantwoordelijk zijn voor duur
 zaamheidsrapportage of compliance binnen hun organisatie. Het programma sl
 uit aan bij duurzaamheidscoördinatoren\, compliance officers\, analisten\
 , projectleiders\, consultants en managers die hun expertise willen verdie
 pen op het gebied van wet- en regelgeving\, dataverzameling\, governance e
 n verslaglegging.\nDagindeling en inhoud\nLesdag 1: 1 mei 2026\n\nCSRD-sta
 ndaarden en EU-taxonomie\n\nLesdag 2: 15 mei 2026\n\nFootprint GHG-protoco
 l\n\nLesdag 3: 29 mei 2026\n\nLCA-calculaties\n\nLesdag 4: 12 juni 2026\n\
 nStakeholderanalyse en Social\n\nLesdag 5: 26 juni 2026\n\nMonitoring en G
 overnance\n\nLesdag 6: 10 juli 2026\n\nPraktijkexamen\nPraktische informat
 ie\nLocatie: Oosterbeek\n\nStartdatum: vrijdag 1 mei 2026\n\nOpleidingsdag
 en: 6 lesdagen inclusief praktijkexamen (10 juli 2026)\n\nDoorlooptijd: 3 
 maanden\n\nStudiebelasting: 3 uur per week\n\nKosten: € 5.250 euro exclu
 sief btw\n\nInclusief: trainingsmateriaal\, praktijkcasuïstiek\, certific
 ering en begeleiding\nMeer informatie en inschrijven\nhttps://ni-academy.n
 l/compliance-and-reporting/\n\nPost-hbo registeropleiding\n\nDeze module m
 aakt deel uit van de jaaropleiding CSO Manager\, die samen met de jaarople
 iding CSO Executive de post-hbo registeropleiding tot Chief Sustainability
  Officer vormt. Meer informatie over deze registeropleiding vindt u op: ht
 tps://ni-academy.nl/cso-manager/
ATTACH;FMTTYPE=image/jpeg:https://www.duurzaam-ondernemen.nl/wordpress/wp-
 content/uploads/2026/02/NI-banner-digitaal-Compliance-Reporting-start-1-me
 i-2026-.png
CATEGORIES:Verslaggeving &amp; Transparantie
LOCATION:Firm of the Future\, Utrechtseweg 263\, Oosterbeek\, 6862 AK\, Ned
 erland
GEO:51.988367;5.81737
X-APPLE-STRUCTURED-LOCATION;VALUE=URI;X-ADDRESS=Utrechtseweg 263\, Oosterbe
 ek\, 6862 AK\, Nederland;X-APPLE-RADIUS=100;X-TITLE=Firm of the Future:geo
 :51.988367,5.81737
END:VEVENT
BEGIN:VTIMEZONE
TZID:Europe/Amsterdam
X-LIC-LOCATION:Europe/Amsterdam
BEGIN:DAYLIGHT
DTSTART:20260329T030000
TZOFFSETFROM:+0100
TZOFFSETTO:+0200
TZNAME:CEST
END:DAYLIGHT
END:VTIMEZONE
END:VCALENDAR