BEGIN:VCALENDAR
VERSION:2.0
PRODID:-//wp-events-plugin.com//7.2.3.1//EN
TZID:Europe/Amsterdam
X-WR-TIMEZONE:Europe/Amsterdam
BEGIN:VEVENT
UID:2002@duurzaam-ondernemen.nl
DTSTART;TZID=Europe/Amsterdam:20260319T130000
DTEND;TZID=Europe/Amsterdam:20260319T170000
DTSTAMP:20260219T140708Z
URL:https://www.duurzaam-ondernemen.nl/events/start-mastercourse-toekomstm
 arketeer/
SUMMARY:Start mastercourse Toekomstmarketeer
DESCRIPTION:Marketing voor morgen: word toekomst marketeer\n\nMarkten veran
 deren sneller dan ooit: grootmachten azen op grondstoffen\, toelevering va
 n producten wordt kwetsbaarder en de verwachtingen van klanten\, medewerke
 rs en investeerders scherper. In die context volstaat marketing die alleen
  focust op korte termijn conversie niet meer. Marketeers kunnen hierin een
  sleutelrol vervullen.\n\nHoe? Als toekomstmarketeer zie jij kansen voor d
 uurzame\, circulaire innovatie\, maar hoe breng je die ideeën écht in be
 weging? Hoe neem je collega’s mee? Hoe voorkom je dat goede intenties bl
 ijven hangen in plannen zonder impact?\n\nTijdens de mastercourse leer je 
 over marketing die vandaag overtuigt én morgen nog klopt. Niet alleen van
 uit idealen of verplichtingen\, maar vanuit strategische scherpte\, commer
 ciële logica en waardecreatie op de lange termijn. Zo verplaatst circular
 iteit zich van een bijzaak - ergens op plek 35 - naar een top-10 prioritei
 t.\n\nNa een succesvolle pilot in 2025 start nu het officiële programma. 
 In vier middagen werk je aan:\n\n 	Strategie en positionering in een veran
 derende markt\n 	Waardecreatie en toekomstgerichte verdienmodellen\n 	Gedr
 agsverandering bij klanten\, partners en interne stakeholders\n 	Marketing
  als gids in organisaties die vooruit willen\n\nVoor marketeers\, communic
 atieprofessionals\, managers en innovators die voelen: dit vraagt meer dan
  de oude spelregels.\n\n 	Inschrijving is open | Start: 19 maart 2026\n 	M
 ax. 30 deelnemers\n 	Pilot 2025 beoordeeld met 9\,2\n\nMeld je aan en bouw
  mee aan marketing die blijft renderen: https://toekomstmarketeers.nl/
ATTACH;FMTTYPE=image/jpeg:https://www.duurzaam-ondernemen.nl/wordpress/wp-
 content/uploads/2026/02/TM.png
CATEGORIES:Duurzaamheidsprofessionals
LOCATION:Tower 42\, Diemerhof 42\, Diemen\, 1112 XN\, Nederland
GEO:52.325414;4.953203
X-APPLE-STRUCTURED-LOCATION;VALUE=URI;X-ADDRESS=Diemerhof 42\, Diemen\, 111
 2 XN\, Nederland;X-APPLE-RADIUS=100;X-TITLE=Tower 42:geo:52.325414,4.95320
 3
END:VEVENT
BEGIN:VTIMEZONE
TZID:Europe/Amsterdam
X-LIC-LOCATION:Europe/Amsterdam
BEGIN:STANDARD
DTSTART:20251026T020000
TZOFFSETFROM:+0200
TZOFFSETTO:+0100
TZNAME:CET
END:STANDARD
END:VTIMEZONE
END:VCALENDAR