BEGIN:VCALENDAR
VERSION:2.0
PRODID:-//wp-events-plugin.com//7.2.3.1//EN
TZID:Europe/Amsterdam
X-WR-TIMEZONE:Europe/Amsterdam
BEGIN:VEVENT
UID:1946@duurzaam-ondernemen.nl
DTSTART;TZID=Europe/Amsterdam:20260312T100000
DTEND;TZID=Europe/Amsterdam:20260312T160000
DTSTAMP:20260113T125128Z
URL:https://www.duurzaam-ondernemen.nl/events/start-masterclasses-in-globa
 l-challenges-amid/
SUMMARY:Start masterclasses in Global Challenges (AMID)
DESCRIPTION:Ben of wil je werkzaam zijn binnen de internationale ontwikkeli
 ng? De Masterclasses in Global Challenges van de Radboud Universiteit bied
 en je de essentiële kennis om de dagelijkse praktijk van internationale s
 amenwerking te verbeteren binnen jouw organisatie\, instantie of stichting
 . Tijdens het programma wordt gefocust op vraagstukken zoals: “Wat zijn 
 de meest urgente debatten in de sector?”\,  “Wat drijft echt de impac
 t van organisaties?”\, en “Hoe kunnen we werken aan localisatie en mee
 r gelijkwaardige partnerschappen?”\nProgramma\nHet programma bestaat uit
  vier modules die worden aangeboden in een mix van fysieke en online sessi
 es. Je kunt de volledige leerlijn volgen of deelnemen aan losse modules di
 e aansluiten bij jouw interesses. Elke sessie legt de nadruk op interactie
  en diepgaande discussie met (internationale) wetenschappelijke experts en
  je medecursisten. Je wordt gestimuleerd om de opgedane kennis toe te pas
 sen op je eigen dagelijkse praktijk\, terwijl je leert van de diverse erv
 aringen binnen de groep.\n\nModule 1 \n\nWaar: Op locatie – Campus Radbo
 ud Universiteit (incl. lunch) \n\nWanneer: 12 maart 2026\, 10:00 – 16:00
  uur\n\n 	The Partnership Paradox: Turning “Locally-led development” I
 nto Practice\n 	Rethinking Aid: What Is the Future Role of Development Coo
 peration?\n\n\nModule 2 \n\nWaar: Online\n\nWanneer:  9 april 2026\, 14:3
 0 – 17:00 uur\n\n 	The Impact and Evidence Revolution: Getting Beyond th
 e Metrics Trap\n\n\nModule 3\n\nWaar: Op locatie – Campus Radboud Univer
 siteit (incl. lunch) \n\nWanneer: 21 mei 2026\, 10:00 – 16:00 uur\n\n 	E
 mpowering Change? The Promise and Pitfalls of AI in Global Development\n 	
 Climate Adaptation in Practice: Building Food and Water Resilience\n\n\nMo
 dule 4 \n\nWaar: online\nWanneer: 11 juni 2026\, 14:30 – 17:00 uur\n\n 	
 Diaspora Leadership: A Strategic Force for Localisation and Innovation\n\n
 Voor wie\nDit programma is bedoeld voor professionals die hun kennis van i
 nternationale ontwikkeling willen verdiepen en hun vermogen willen verster
 ken om te werken aan complexe wereldwijde uitdagingen. Bijvoorbeeld:\n\n 	
 Professionals in beleid of programma’s binnen ontwikkelingssamenwerking\
 n 	Professionals in een ondersteunende of organisatorische rol (bijv. fina
 nce\, HR\, fondsenwerving)\n 	Professionals die een carrièreswitch maken 
 richting internationale ontwikkeling\n 	Medewerkers van een stichting\, ov
 erheidsinstantie\, adviesbureau of burgerinitiatief dat werkt aan de SDG
 ’s\n\nMeer informatie/aanmelden\n\n&nbsp\;\n\n&nbsp\;
ATTACH;FMTTYPE=image/jpeg:https://www.duurzaam-ondernemen.nl/wordpress/wp-
 content/uploads/2026/01/duurzaam-ondernemen-banner-ce-gc-mc.png
CATEGORIES:Duurzaamheidsprofessionals,Sustainable Development Goals
LOCATION:Radboud Universiteit Nijmegen\, Campus A-Faculteiten\, homas van A
 quinostraat 1\, Nijmegen\, Nederland
GEO:51.8188641;5.863902800000005
X-APPLE-STRUCTURED-LOCATION;VALUE=URI;X-ADDRESS=homas van Aquinostraat 1\, 
 Nijmegen\, Nederland;X-APPLE-RADIUS=100;X-TITLE=Radboud Universiteit Nijme
 gen\, Campus A-Faculteiten:geo:51.8188641,5.863902800000005
END:VEVENT
BEGIN:VTIMEZONE
TZID:Europe/Amsterdam
X-LIC-LOCATION:Europe/Amsterdam
BEGIN:STANDARD
DTSTART:20251026T020000
TZOFFSETFROM:+0200
TZOFFSETTO:+0100
TZNAME:CET
END:STANDARD
END:VTIMEZONE
END:VCALENDAR