BEGIN:VCALENDAR
VERSION:2.0
PRODID:-//wp-events-plugin.com//7.2.3.1//EN
TZID:Europe/Amsterdam
X-WR-TIMEZONE:Europe/Amsterdam
BEGIN:VEVENT
UID:1907@duurzaam-ondernemen.nl
DTSTART;TZID=Europe/Amsterdam:20260130T090000
DTEND;TZID=Europe/Amsterdam:20260130T170000
DTSTAMP:20251120T133846Z
URL:https://www.duurzaam-ondernemen.nl/events/start-jaaropleiding-cso-exec
 utive/
SUMMARY:Start jaaropleiding CSO Executive
DESCRIPTION:Op vrijdag 30 januari start de opleiding CSO Executive. Deze ja
 aropleiding van NI-academy is bedoeld voor professionals die strategisch r
 ichting willen geven aan duurzaamheid binnen hun organisatie. Je leert wer
 ken met strategische instrumenten en systemische benaderingen waarmee je d
 e lange termijn duurzaamheidsdoelen van de organisatie waarmaakt.\n\nJe vo
 lgt drie verdiepende modules:\n\n 	Wet- &amp\; Regelgeving\n\nInzicht in v
 eranderende wetgeving\, bestuurlijke verantwoordelijkheid en juridische po
 sitionering van duurzaamheidsbeleid. Met aandacht voor CSRD/ESRS\, zorgpli
 chten\, aansprakelijkheid en governance.\n\n 	NI-Businessmodel\n\nToepassi
 ng van het Nature’s Intelligence Businessmodel om organisaties in te ric
 hten op basis van natuurlijke principes. Inclusief systeemdenken\, veerkra
 cht\, samenwerking en duurzame waardecreatie.\n\n 	Transitiemanagement\n\n
 Strategievorming\, veranderkracht en besluitvorming in complexe context. J
 e leert sturen op impact\, omgaan met spanningsvelden en duurzame innovati
 e verbinden aan organisatieontwikkeling.\nOnderdeel van de post-hbo-regist
 eropleiding CSO\nDe opleiding CSO Executive vormt samen met CSO Manager de
  tweejarige post-hbo-registeropleiding CSO. Het succesvol doorlopen van he
 t volledige traject leidt tot een erkend post-hbo-registerdiploma en regis
 tratie in het landelijke post-hbo-diplomaregister.\nVrijstelling mogelijk\
 nBeschik je over minimaal een hbo+ opleiding en heb je ten minste twee jaa
 r relevante werkervaring op het gebied van duurzaamheid? Dan is vrijstelli
 ng voor de opleiding CSO Manager mogelijk. Je kunt dan direct instromen in
  CSO Executive. Bij succesvolle afronding ontvang je alsnog het officiële
  post-hbo-registerdiploma.\nVoor wie?\nCSO Executive is bedoeld voor ervar
 en beleidsadviseurs\, managers\, directeuren en strategen die duurzaamheid
  tot kernonderdeel willen maken van beleid\, besluitvorming en bestuur.\n\
 nDuur: 1 studiejaar\n\nStartdatum: 30 januari 2026\n\nInvestering: € 15.
 200\,- (excl. btw)\n\nModules ook los te volgen: €5.250\,- per module (e
 xcl. btw)\n\nMeer informatie en inschrijven: ni-academy.nl/cso-executive
ATTACH;FMTTYPE=image/jpeg:https://www.duurzaam-ondernemen.nl/wordpress/wp-
 content/uploads/2025/11/firm1.jpg
CATEGORIES:Duurzaamheidsprofessionals
LOCATION:Firm of the Future\, Utrechtseweg 263\, Oosterbeek\, 6862 AK\, Ned
 erland
GEO:51.988367;5.81737
X-APPLE-STRUCTURED-LOCATION;VALUE=URI;X-ADDRESS=Utrechtseweg 263\, Oosterbe
 ek\, 6862 AK\, Nederland;X-APPLE-RADIUS=100;X-TITLE=Firm of the Future:geo
 :51.988367,5.81737
END:VEVENT
BEGIN:VTIMEZONE
TZID:Europe/Amsterdam
X-LIC-LOCATION:Europe/Amsterdam
BEGIN:STANDARD
DTSTART:20251026T020000
TZOFFSETFROM:+0200
TZOFFSETTO:+0100
TZNAME:CET
END:STANDARD
END:VTIMEZONE
END:VCALENDAR