BEGIN:VCALENDAR
VERSION:2.0
PRODID:-//wp-events-plugin.com//7.2.3.1//EN
TZID:Europe/Amsterdam
X-WR-TIMEZONE:Europe/Amsterdam
BEGIN:VEVENT
UID:1888@duurzaam-ondernemen.nl
DTSTART;TZID=Europe/Amsterdam:20251112T110000
DTEND;TZID=Europe/Amsterdam:20251112T114500
DTSTAMP:20251030T085921Z
URL:https://www.duurzaam-ondernemen.nl/events/start-eudr-winter-school/
SUMMARY:Start EUDR Winter School
DESCRIPTION:Vanaf 1 januari 2026 moeten bedrijven die relevante producten o
 p de EU-markt brengen\, voldoen aan de EU-ontbossingsverordening (EUDR). M
 aar wat houdt dat precies in en hoe bereid je je voor?\n\nIn de EUDR Winte
 r School nemen de duurzaamheidsonderzoekers van Coolset je mee door de rei
 s van een fictief bedrijf naar EUDR-naleving - van het in kaart brengen va
 n hun blootstelling tot het indienen van due diligence-verklaringen in TRA
 CES.\n\nElke sessie combineert scenariogebaseerd leren\, praktische oefeni
 ngen en live vragen en antwoorden.\n\nBovendien ontvang je na elke sessie 
 downloadbare sjablonen\, tools en checklists om in je eigen organisatie to
 e te passen.\nSessies\nDeel 1: Je toeleveringsketen in kaart brengen voor 
 EUDR - woensdag 12 november om 11.00 uur CEST\n\n 	Leer hoe je kunt contro
 leren of EUDR van toepassing is en begin met het traceren van je toeleveri
 ngsketen.\n 	Bepaal of uw bedrijf en producten onder de EUDR vallen\n 	Vin
 d supply chain-gegevens in ERP-\, inkoop- en interne systemen\n 	Vermijd v
 eelvoorkomende valkuilen in de beginfase van compliance\n\nDeel 2: Leveran
 ciers betrekken en de juiste gegevens verzamelen - woensdag 19 november om
  11.00 uur CEST\n\n 	Leer hoe u geolocatie- en rechtmatigheidsgegevens kun
 t opvragen en leveranciers kunt laten reageren.\n 	Communiceer verwachting
 en duidelijk met sjablonen en checklists\n 	Ga om met aarzelende of niet-r
 eagerende leveranciers\n 	Begrijp geodataformaten en nauwkeurigheidsvereis
 ten\n\nDeel 3: Risicobeoordelingen uitvoeren en actie ondernemen - woensda
 g 26 november om 11.00 uur CEST\n\n 	Leer hoe u supply chain-risico's kunt
  beoordelen en kunt bepalen wanneer mitigatie nodig is.\n 	Volg een gestru
 ctureerd risicobeoordelingsproces\n 	Gebruik betrouwbare databronnen om ri
 sico's te evalueren\n 	Documenteer en onderneem actie bij non-compliance\n
 \nDeel 4: Indienen bij TRACES en operationaliseren van EUDR - woensdag 3 d
 ecember om 11.00 uur CEST\n\n 	Leer hoe u due diligence-verklaringen kunt 
 indienen en doorlopende processen kunt opzetten.\n 	Begrijp wat TRACES ver
 eist en hoe u zich kunt voorbereiden\n 	Koppel batches\, percelen\, levera
 nciers en DDS\n 	Integreer EUDR in de dagelijkse bedrijfsvoering\n\nAanmel
 den
ATTACH;FMTTYPE=image/jpeg:https://www.duurzaam-ondernemen.nl/wordpress/wp-
 content/uploads/2025/10/unnamed-48-scaled.png
CATEGORIES:Duurzaamheidsprofessionals,Verslaggeving &amp; Transparantie
LOCATION:Online webinar\,  \,  \, Nederland
GEO:52.132633;5.291266
X-APPLE-STRUCTURED-LOCATION;VALUE=URI;X-ADDRESS= \,  \, Nederland;X-APPLE-R
 ADIUS=100;X-TITLE=Online webinar:geo:52.132633,5.291266
END:VEVENT
BEGIN:VTIMEZONE
TZID:Europe/Amsterdam
X-LIC-LOCATION:Europe/Amsterdam
BEGIN:STANDARD
DTSTART:20251026T020000
TZOFFSETFROM:+0200
TZOFFSETTO:+0100
TZNAME:CET
END:STANDARD
END:VTIMEZONE
END:VCALENDAR