BEGIN:VCALENDAR
VERSION:2.0
PRODID:-//wp-events-plugin.com//7.2.3.1//EN
TZID:Europe/Amsterdam
X-WR-TIMEZONE:Europe/Amsterdam
BEGIN:VEVENT
UID:2005@duurzaam-ondernemen.nl
DTSTART;TZID=Europe/Amsterdam:20260917T130000
DTEND;TZID=Europe/Amsterdam:20260917T210000
DTSTAMP:20260220T091451Z
URL:https://www.duurzaam-ondernemen.nl/events/start-dgbc-future-leaders-pr
 ogram-2026/
SUMMARY:Start DGBC Future Leaders Program 2026
DESCRIPTION:Het DGBC Future Leaders Program is een leiderschapsprogramma vo
 or ambitieuze Young Professionals die hun persoonlijk leiderschap willen o
 ntwikkelen zodat ze meer impact kunnen hebben op hun persoonlijke duurzaam
 heidsmissie. Het vijfdaagse programma inspireert\, biedt reflectie op gedr
 ag en competenties en verbindt CEO’s uit het DGBC-netwerk met de deelnem
 ers. Al 10 jaar lang is FLP hét programma waarbij deelnemers worden gesti
 muleerd tot het initiëren en volbrengen van veranderingen in hun eigen we
 rkomgeving.\n\nAmbitieuze Young Professionals zullen op termijn de nieuwe 
 (groene) leiders zijn. De transitie gaat niet snel genoeg en dat vraagt 
 om meer lef en leiderschap\, ook en juist bij de jonge generatie. Wij will
 en deze generatie stimuleren om die versnelling te veroorzaken. In dit lei
 derschapsprogramma ontvangen de deelnemers nieuwe kennis en inzichten\, co
 aching op gedrag en competenties\, verbinding met bestaande leiders en gen
 eratiegenoten en opdrachten om concreet aan de slag te gaan met de eigen a
 mbities.\n\nDe Future Leaders worden geprikkeld en uitgedaagd: Waar sta ik
  zelf in mijn loopbaan\, wat zijn eigenlijk mijn drijfveren en (groene) am
 bities\, welke competenties horen daarbij? Je krijgt inzicht in de eigensc
 happen van effectief leiderschap (Covey)\, je leert reflecteren op je eige
 n situatie via de lijn van de logische niveaus (Bateson &amp\; Dilts). Ook
  leer je hoe je verschillende posities tijdens onderhandelingen kunt herke
 nnen en toepassen (Mastenbroek). Er is ruimte om te oefenen met wat je kri
 jgt aangereikt\, zoals bijvoorbeeld het effectief overbrengen van je boods
 chap. Daarnaast is er volop de gelegenheid om te netwerken met andere Futu
 re Leaders\, maar ook met huidige CEO’s en groene leiders uit het DGBC n
 etwerk.\nVoordelen\n\n 	Inzicht in je leiderschapskwaliteiten\n 	Toegang t
 ot een exclusief programma\n 	Tijdsinvestering is overzichtelijk\n 	Kennis
  vergaren door hoogwaardige keynotes\n 	Kennis vergaren en delen met Young
  Professionals\n 	Netwerken met ambitieuze Young Professionals\n 	Netwerke
 n met huidige CEO’s &amp\; Green Leaders\n 	Samenwerken met Young Profes
 sionals\n\nMet medewerking van o.a.:\n\n 	Brigit Gerritse – Algemeen di
 recteur Dutch Green Building Council\n 	Nathalie ‘Pitch Queen’ Mangela
 ars – Founder Pitch Academy\n 	Josse Popma – Popma ter Steege Archit
 ecten\n 	Lidewey van der Sluis – Hoogleraar Strategisch Talentmanagemen
 t\, Nyenrode Business Universiteit\n 	Mare de Wit – Toekomst-Ambassadeu
 r Water en Klimaatadaptatie\n 	Niek de Vries – Coach Future Leaders Pro
 gram\n\nVoor wie?\nHet DGBC Future Leaders Program is een programma voor Y
 oung Professionals tot 35 jaar\, die actief zijn met het verduurzamen van 
 de gebouwde omgeving. Ben jij een Young Professional met groene ambities 
 die zich wil ontwikkelen als toekomstig leider? Meld je dan aan. Bij je 
 aanmelding vragen we om een motivatie en akkoord van jouw directie.\nData\
 n\n 	do 17 september 2026 13:00 - 21:00\n 	vr 18 september 2026 09:00 - 17
 :00\n 	do 29 oktober 2026 09:00 - 17:00\n 	do 12 november 2026 09:00 - 17:
 00\n 	do 10 december 2026 09:00 - 18:30\n\nMeer informatie/aanmelden
ATTACH;FMTTYPE=image/jpeg:https://www.duurzaam-ondernemen.nl/wordpress/wp-
 content/uploads/2026/02/Future-Leaders-Program-2023-1.webp
CATEGORIES:Bouw/Infra &amp; Vastgoed,Duurzaamheidsprofessionals
LOCATION:Kontakt der Kontinenten\, Amersfoortsestraat 20\, Soesterberg\, 37
 69 AS\, Nederland
GEO:52.124289;5.299967
X-APPLE-STRUCTURED-LOCATION;VALUE=URI;X-ADDRESS=Amersfoortsestraat 20\, Soe
 sterberg\, 3769 AS\, Nederland;X-APPLE-RADIUS=100;X-TITLE=Kontakt der Kont
 inenten:geo:52.124289,5.299967
END:VEVENT
BEGIN:VTIMEZONE
TZID:Europe/Amsterdam
X-LIC-LOCATION:Europe/Amsterdam
BEGIN:DAYLIGHT
DTSTART:20260329T030000
TZOFFSETFROM:+0100
TZOFFSETTO:+0200
TZNAME:CEST
END:DAYLIGHT
END:VTIMEZONE
END:VCALENDAR