BEGIN:VCALENDAR
VERSION:2.0
PRODID:-//wp-events-plugin.com//7.2.3.1//EN
TZID:Europe/Amsterdam
X-WR-TIMEZONE:Europe/Amsterdam
BEGIN:VEVENT
UID:1638@duurzaam-ondernemen.nl
DTSTART;TZID=Europe/Amsterdam:20250911T090000
DTEND;TZID=Europe/Amsterdam:20250911T170000
DTSTAMP:20250222T135941Z
URL:https://www.duurzaam-ondernemen.nl/events/start-dgbc-future-leaders-pr
 ogram-2025-2/
SUMMARY:Start DGBC Future Leaders Program 2025
DESCRIPTION:Ben jij de nieuwe groene leider?\n\nAan de slag met persoonlijk
 e ontwikkeling\, leiderschap én duurzaamheid? Dat kan tijdens het DGBC Fu
 ture Leaders Program\, een stimulerend programma op het gebied van leiders
 chap en duurzaamheid voor young professionals die actief zijn in het werkv
 eld van verduurzaming van de gebouwde omgeving. Op donderdag 11 september
  2025 start een nieuwe editie. Doe je mee?\nProgramma\nTijdens het vijfdaa
 gse programma ga je aan de slag met vragen als: Waar sta ik in mijn loopba
 an? Wat zijn mijn drijfveren en groene ambities? En welke competenties hor
 en daarbij? Samen met generatiegenoten\, coaches\, CEO’s en ervaren groe
 ne leiders uit het DGBC-netwerk maak je jouw duurzame ambities en persoonl
 ijke doelen concreet. Je krijgt inzicht in jouw leiderschapskwaliteiten en
  je krijgt support als je aan de slag gaat met je ontwikkelpunten. Daarnaa
 st worden praktische vaardigheden getraind\, zoals het effectief overbreng
 en van een boodschap. Maar ook: luisteren.\nMet coaching\, workshops\, lez
 ingen en advies van onder anderen:\n\n 	Brigit Gerritse\, Algemeen directe
 ur Dutch Green Building Council\n 	Nathalie 'Pitch Queen' Mangelaars\, Fou
 nder Pitch Academy\n 	Lidewey van der Sluis\, Hoogleraar Strategisch Talen
 tmanagement\, Nyenrode Business Universiteit\n 	Norbert Schotte\, Transiti
 emaker\n 	Friso de Zeeuw\, Jurist\, projectontwikkelaar en oud-politicus\n
  	Yvonne van der Brugge\, Directeur-generaal Rijksvastgoedbedrijf\n 	Niek
  de Vries\, Coach en trainer\n\nBijeenkomsten\nHet DGBC Future Leaders Pro
 gram 2025 start op donderdag 11 september met een tweedaagse bijeenkomst i
 nclusief overnachting. Daarna is er maandelijks een bijeenkomst. Het progr
 amma heeft een doorlooptijd van 4 maanden.\n\n 	Donderdag 11 september 202
 5 om 13:00 uur t/m vrijdag 12 september om 18:00 uur bij Kontakt der Kont
 inenten\n 	Donderdag 9 oktober 2025 van 09:00 tot 18:00 uur bij Van Byland
 t Huis\n 	Donderdag 13 november 2025 van 10:00 tot 12:00 uur in de natuur\
 n 	Donderdag 11 december 2025 van 09:00 tot 20:00 uur bij Hof van Cartesiu
 s in Utrecht\n\nMeer informatie/aanmelden
ATTACH;FMTTYPE=image/jpeg:https://www.duurzaam-ondernemen.nl/wordpress/wp-
 content/uploads/2025/02/leaders2025.jpg
CATEGORIES:Bouw/Infra &amp; Vastgoed,Duurzaamheidsprofessionals
LOCATION:Kontakt der Kontinenten\, Amersfoortsestraat 20\, Soesterberg\, 37
 69 AS\, Nederland
GEO:52.124289;5.299967
X-APPLE-STRUCTURED-LOCATION;VALUE=URI;X-ADDRESS=Amersfoortsestraat 20\, Soe
 sterberg\, 3769 AS\, Nederland;X-APPLE-RADIUS=100;X-TITLE=Kontakt der Kont
 inenten:geo:52.124289,5.299967
END:VEVENT
BEGIN:VTIMEZONE
TZID:Europe/Amsterdam
X-LIC-LOCATION:Europe/Amsterdam
BEGIN:DAYLIGHT
DTSTART:20250330T030000
TZOFFSETFROM:+0100
TZOFFSETTO:+0200
TZNAME:CEST
END:DAYLIGHT
END:VTIMEZONE
END:VCALENDAR