BEGIN:VCALENDAR
VERSION:2.0
PRODID:-//wp-events-plugin.com//7.2.3.1//EN
TZID:Europe/Amsterdam
X-WR-TIMEZONE:Europe/Amsterdam
BEGIN:VEVENT
UID:1326@duurzaam-ondernemen.nl
DTSTART;TZID=Europe/Amsterdam:20240523T093000
DTEND;TZID=Europe/Amsterdam:20240523T170000
DTSTAMP:20240422T151155Z
URL:https://www.duurzaam-ondernemen.nl/events/start-csrd-opleidingstraject
 -voor-mkb/
SUMMARY:Start CSRD opleidingstraject voor mkb
DESCRIPTION:Alfa is een samenwerking aangegaan met Planet+Partners om een
  opleidingstraject te organiseren voor het mkb. In dit praktijkgerichte mk
 b-CSRD programma leer je om je duurzaamheidambities vorm te geven in lijn 
 met de CSRD\, de kansen en risico’s scherp te krijgen\, ketenvragen aan 
 te kunnen\, en deze te vertalen naar acties en kpi’s.\n\nIn het kort\nWa
 nneer: vanaf 23 mei\nWaar: regio Utrecht\nInvestering: vanaf 6.500 euro p.
 p. excl. btw\nInhoud en programma\nHet programma bestaat uit 7 workshops v
 an een dagdeel met steeds twee weken ertussen. 4 hiervan zullen plaatsvind
 en voor de zomervakantie\, de andere daarna.\n\nVragen waar je mee aan de 
 slag gaat\, zijn bijvoorbeeld:\n\n 	Welke strategische koers ga ik varen o
 p duurzaamheid\, en wat is het juiste tempo?\n 	Hoe kan ik als mkb-onderne
 mer pragmatisch aan de slag met CO2?\n 	Hoe betrek ik mijn hele organisati
 e en heb ik structuur in beantwoorden van mijn ketenvragen?\n 	Hoe maak ik
  mijn bedrijfsmodel nog meer toekomstbestendig?\n 	Kan ik concurrentievoor
 deel creëren met duurzaamheid?\n 	In hoeverre kiezen mijn klanten nu en s
 traks op basis van de duurzaamheid van ons aanbod?\n\n\n\nVoor en met wie?
 \nDit traject is voor mkb-bedrijven die op korte termijn serieus aan de sl
 ag willen met duurzaamheid en vanuit de keten toenemende behoefte ervaren 
 om informatie over hun duurzame aanpak en resultaten te delen met (grote) 
 opdrachtgevers.\nOndernemers die op dit moment niet zoeken naar volledige 
 ontzorging en uitgebreide individuele begeleidingstrajecten\, maar behoeft
 e hebben aan een voordeliger aanpak waarbij ze ook veel zelf kunnen doen.\
 n\nDe training wordt gegeven door ervaren trainers aan een groep met 10 to
 t 15 ondernemers. Doordat je samen met andere ondernemers het programma do
 orloopt\, wordt de leerervaring versterkt door de uitwisseling van ervarin
 gen\, expertise en ideeën met andere cursisten.\n\nAlfa verzorgt dit trai
 ningsprogramma samen met Planet+Partners. Planet+Partners is een vooraanst
 aand duurzaamheidsstrategie-adviesbureau met uitgebreide CSRD-implementati
 e expertise. Planet+ maakt al 15 jaar duurzaamheid concreet en meetbaar.\n
 \nMeer informatie en aanmelden
ATTACH;FMTTYPE=image/jpeg:https://www.duurzaam-ondernemen.nl/wordpress/wp-
 content/uploads/2024/04/afbeelding.jpg
CATEGORIES:Verslaggeving &amp; Transparantie
LOCATION:\, \, Nederland
X-APPLE-STRUCTURED-LOCATION;VALUE=URI;X-ADDRESS=\, Nederland;X-APPLE-RADIUS
 =100;X-TITLE=:geo:0,0
END:VEVENT
BEGIN:VTIMEZONE
TZID:Europe/Amsterdam
X-LIC-LOCATION:Europe/Amsterdam
BEGIN:DAYLIGHT
DTSTART:20240331T030000
TZOFFSETFROM:+0100
TZOFFSETTO:+0200
TZNAME:CEST
END:DAYLIGHT
END:VTIMEZONE
END:VCALENDAR