BEGIN:VCALENDAR
VERSION:2.0
PRODID:-//wp-events-plugin.com//7.2.3.1//EN
TZID:Europe/Amsterdam
X-WR-TIMEZONE:Europe/Amsterdam
BEGIN:VEVENT
UID:1633@duurzaam-ondernemen.nl
DTSTART;TZID=Europe/Amsterdam:20250418T090000
DTEND;TZID=Europe/Amsterdam:20250418T170000
DTSTAMP:20250418T081613Z
URL:https://www.duurzaam-ondernemen.nl/events/start-cso-module-transitiema
 nagement/
SUMMARY:Start CSO module Transitiemanagement
DESCRIPTION:Wilt u effectief leidinggeven aan duurzame transities?  \nDe m
 odule Transitiemanagement is speciaal ontworpen voor professionals die str
 ategisch willen omgaan met verandering en duurzaamheid binnen hun organisa
 tie. U leert hoe u transities effectief kunt begeleiden\, weerstand kunt o
 verwinnen en leiderschap kunt tonen in tijden van verandering.\nNa afrondi
 ng van deze module bent u in staat om duurzame veranderingen effectief te 
 implementeren\, waarbij u rekening houdt met zowel de organisatiecultuur a
 ls kansen voor innovatieve groei.\n\nProgramma\nDe module Transitiemanagem
 ent bestaat uit een intensief programma waarin u leert:\n\n\n 	Veranderkun
 de en Transities: Inzicht in veranderprocessen en transitiemodellen.\n 	L
 eiderschap en Veerkracht: Ontwikkelen van authentiek leiderschap en het v
 ergroten van veerkracht binnen teams.\n 	Stakeholdermanagement en Communic
 atie: Effectief samenwerken en communiceren met alle betrokkenen tijdens 
 transities.\n\nTijdens de module maakt u gebruik van praktijkvoorbeelden\,
  interactieve sessies en casestudies om de theorie direct toe te passen in
  uw eigen werkomgeving.\n\nDagindeling en inhoud\nDe module Transitiemanag
 ement bestaat uit zes intensieve lesdagen:\n\n\n 	Dag 1: 18 april 2025 –
  Veranderkunde en Transities: Inzicht in veranderprocessen en transitiemod
 ellen.\n 	Dag 2: 2 mei 2025 – Leiderschap en Veerkracht: Ontwikkelen van
  authentiek leiderschap en het vergroten van veerkracht binnen teams.\n 	D
 ag 3: 16 mei 2025 – Cultuuraspecten\, Samenwerken en Weerstand: Effectie
 f omgaan met weerstand en het stimuleren van samenwerking.\n 	Dag 4: 28 me
 i 2025 – Trends en Procesveranderingen: Inzicht in actuele trends en het
  sturen van procesveranderingen.\n 	Dag 5: 13 juni 2025 – Stakeholderman
 agement\, Participatie en Communicatie:  Effectief samenwerken en communi
 ceren met alle betrokkenen tijdens transities.\n 	Dag 6: 27 juni 2025 – 
 Praktijkexamen: Toepassen van verworven kennis in een complexe transitieca
 se.\n\nExamen\nAan het einde van de module (dag 6: 27 juni 2025) legt u ee
 n praktijkexamen af waarin u laat zien dat u de verworven kennis kunt toep
 assen in een complexe transitiecase.\nBij succesvolle afronding ontvangt u
  een erkend certificaat van de NI Academy\, waarmee u aantoont dat u besch
 ikt over strategische vaardigheden in transitiemanagement.\n\nInvestering\
 n- Module Transitiemanagement: € 4.950 excl. btw.\nDe module is los te v
 olgen voor professionals die zich willen specialiseren in transitiemanagem
 ent of kan geïntegreerd worden in een breder opleidingsprogramma tot CSO 
 Executive binnen de NI Academy. Voor meer informatie hierover zie: https:/
 /ni-academy.nl/registeropleiding-cso/\nMeer informatie vindt u op de websi
 te van NI Academy: (https://ni-academy.nl/transitiemanagement/).\n
ATTACH;FMTTYPE=image/jpeg:https://www.duurzaam-ondernemen.nl/wordpress/wp-
 content/uploads/2025/02/NI-banner-Transitiemanagement-1600px.jpg
CATEGORIES:Duurzaamheidsprofessionals
LOCATION:Nederlands Openluchtmuseum Arnhem\, Hoeferlaan 4\, Arnhem\, Gelder
 land\, 6816 SG \, Nederland
GEO:52.009604;5.907351
X-APPLE-STRUCTURED-LOCATION;VALUE=URI;X-ADDRESS=Hoeferlaan 4\, Arnhem\, Gel
 derland\, 6816 SG \, Nederland;X-APPLE-RADIUS=100;X-TITLE=Nederlands Openl
 uchtmuseum Arnhem:geo:52.009604,5.907351
END:VEVENT
BEGIN:VTIMEZONE
TZID:Europe/Amsterdam
X-LIC-LOCATION:Europe/Amsterdam
BEGIN:DAYLIGHT
DTSTART:20250330T030000
TZOFFSETFROM:+0100
TZOFFSETTO:+0200
TZNAME:CEST
END:DAYLIGHT
END:VTIMEZONE
END:VCALENDAR