BEGIN:VCALENDAR
VERSION:2.0
PRODID:-//wp-events-plugin.com//7.2.3.1//EN
TZID:Europe/Amsterdam
X-WR-TIMEZONE:Europe/Amsterdam
BEGIN:VEVENT
UID:1634@duurzaam-ondernemen.nl
DTSTART;TZID=Europe/Amsterdam:20250425T090000
DTEND;TZID=Europe/Amsterdam:20250425T170000
DTSTAMP:20250220T141025Z
URL:https://www.duurzaam-ondernemen.nl/events/start-cso-module-compliance-
 reporting/
SUMMARY:Start CSO module Compliance &amp\; Reporting
DESCRIPTION:Wilt u leren hoe u een duurzaamheidsrapportage opstelt die vold
 oet aan de huidige normen en richtlijnen? \nDe module Compliance &amp\; Re
 porting is ontworpen voor professionals die zich willen specialiseren in h
 et opstellen van betrouwbare duurzaamheidsrapportages binnen hun organisat
 ie. U krijgt een diepgaand inzicht in de nieuwste regelgeving\, zoals de C
 SRD en de EU-taxonomie\, en leert hoe u rapportages ontwikkelt die niet al
 leen voldoen aan wettelijke eisen\, maar ook bijdragen aan transparantie e
 n strategische besluitvorming.\nNa afronding van deze module kunt u gestru
 ctureerde en inzichtelijke duurzaamheidsrapportages opstellen\, waarin u r
 ekening houdt met wet- en regelgeving\, stakeholderverwachtingen en kansen
  voor duurzame waardecreatie binnen uw organisatie.\n\nProgramma\nDe modul
 e Compliance &amp\; Reporting bestaat uit een intensief programma waarin u
  leert:\n\n\n 	Duurzaamheidsrapportage en regelgeving: Inzicht in de CSRD\
 , EU-taxonomie en andere relevante wet- en regelgeving voor transparante r
 apportages.\n 	Data-analyse en impactmeting: Methoden om duurzaamheidsdata
  te verzamelen\, analyseren en vertalen naar betrouwbare en strategische r
 apportages.\n 	Stakeholdercommunicatie en governance: Effectief afstemmen 
 met interne en externe stakeholders en het ontwikkelen van een sterke gove
 rnance-structuur voor naleving en verantwoording.\n\nTijdens de module wer
 kt u met praktijkgerichte casestudies\, interactieve sessies en concrete v
 oorbeelden uit het werkveld. Door de combinatie van theorie en praktijk le
 ert u de opgedane kennis direct toe te passen binnen uw eigen organisatie.
 \nDagindeling en inhoud\nDe module Compliance &amp\; Reporting bestaat uit
  zes intensieve lesdagen\, waarin theorie en praktijk worden gecombineerd 
 om u optimaal voor te bereiden op duurzaamheidsrapportage en regelgeving.\
 n\n\n 	Lesdag 1: 25 april 2025 – CSRD-standaarden en EU-taxonomie: Diepg
 aand inzicht in de nieuwste rapportagestandaarden en wetgeving voor duurza
 me bedrijfsvoering.\n 	Lesdag 2: 9 mei 2025 – Footprint GHG-protocol: To
 epassen van het Greenhouse Gas (GHG) Protocol om emissies nauwkeurig te be
 rekenen en te rapporteren.\n 	Lesdag 3: 23 mei 2025 – LCA-calculaties: L
 eren werken met levenscyclus analyse (LCA) om de milieueffecten van produc
 ten en processen te beoordelen.\n 	Lesdag 4: 6 juni 2025 – Stakeholderan
 alyse en Social: Het in kaart brengen van stakeholders en hun belangen en 
 de juiste aanpak voor verantwoording over sociale impact in duurzaamheidsr
 apportages.\n 	Lesdag 5: 20 juni 2025 – Monitoring en Governance: Opzett
 en van systemen voor continue monitoring en het waarborgen van naleving en
  transparantie.\n 	Lesdag 6: 4 juli 2025 – Integratie en praktijktoets: 
 Toepassen van alle kennis in een realistische casus en presenteren van een
  onderbouwde duurzaamheidsrapportage.\n\nExamen\nOp de laatste dag van de 
 module (dag 6: 4 juli 2025) legt u een praktijkexamen af waarin u aantoont
  de opgedane kennis te kunnen toepassen in een complexe rapportagecase.\nB
 ij succesvolle afronding ontvangt u een erkend certificaat van de NI acade
 my\, waarmee u uw expertise in compliance en reporting bevestigt.\n\nInves
 tering\n- Module Compliance &amp\; Reporting: € 4.950 excl. btw.\nDeze m
 odule is afzonderlijk te volgen voor professionals die zich willen special
 iseren in compliance en reporting\, maar kan ook geïntegreerd worden in e
 en breder opleidingsprogramma tot Chief Sustainability Officer (CSO) binne
 n de NI academy. Voor meer informatie hierover kunt u terecht op: https://
 ni-academy.nl/registeropleiding-cso/\nMeer informatie over de module Compl
 iance &amp\; Reporting vindt u op de website van de NI academy: https://ni
 -academy.nl/compliance-and-reporting/\n
ATTACH;FMTTYPE=image/jpeg:https://www.duurzaam-ondernemen.nl/wordpress/wp-
 content/uploads/2025/02/NI-banners-Compliance-Reporting-1600px.jpg
CATEGORIES:Duurzaamheidsprofessionals,Verslaggeving &amp; Transparantie
LOCATION:Koetshuis in Oosterbeek\, Utrechtseweg 263\, Oosterbeek\, Gelderla
 nd\, 6862 AK\, Nederland
GEO:51.988367;5.81737
X-APPLE-STRUCTURED-LOCATION;VALUE=URI;X-ADDRESS=Utrechtseweg 263\, Oosterbe
 ek\, Gelderland\, 6862 AK\, Nederland;X-APPLE-RADIUS=100;X-TITLE=Koetshuis
  in Oosterbeek:geo:51.988367,5.81737
END:VEVENT
BEGIN:VTIMEZONE
TZID:Europe/Amsterdam
X-LIC-LOCATION:Europe/Amsterdam
BEGIN:DAYLIGHT
DTSTART:20250330T030000
TZOFFSETFROM:+0100
TZOFFSETTO:+0200
TZNAME:CEST
END:DAYLIGHT
END:VTIMEZONE
END:VCALENDAR