BEGIN:VCALENDAR
VERSION:2.0
PRODID:-//wp-events-plugin.com//7.2.3.1//EN
TZID:Europe/Amsterdam
X-WR-TIMEZONE:Europe/Amsterdam
BEGIN:VEVENT
UID:1955@duurzaam-ondernemen.nl
DTSTART;TZID=Europe/Amsterdam:20260923T093000
DTEND;TZID=Europe/Amsterdam:20260925T170000
DTSTAMP:20260116T113846Z
URL:https://www.duurzaam-ondernemen.nl/events/springtij-forum-2026/
SUMMARY:Springtij Forum 2026
DESCRIPTION:Springtij brengt professionals samen die werken aan een toekoms
 tbestendig Nederland. Een duurzaam en sociale toekomst. Dat kan als we de 
 juiste kennis en mensen met elkaar verbinden. Springtij is die plek waar j
 e perspectief wordt verbreed en je duurzame connecties legt.\n\nWe versnel
 len de transitie van Nederland door te focussen op een echte verandering v
 an het systeem. Ecologie is daarbij ons kompas\; sociale en financieel-eco
 nomische transformatie vormen de motor. Bedrijven\, overheden\, maatschapp
 elijke organisaties en kennisinstellingen komen bij ons samen en kijken in
 tegraal naar de ecologische en sociale vraagstukken.\n\nWe organiseren ont
 moetingen die uitnodigen tot reflectie en verbeelding geïnspireerd door n
 atuur\, kunst en wetenschap. We geloven dat verandering juist ontstaat wan
 neer hart en hoofd samen optrekken. Het hele jaar door agenderen we de act
 ualiteit van morgen en werken we aan acties met impact. Hoogtepunt is het 
 driedaagse Springtij Forum op Terschelling.\n\nMeer informatie\n\n
ATTACH;FMTTYPE=image/jpeg:https://www.duurzaam-ondernemen.nl/wordpress/wp-
 content/uploads/2026/01/springtij_2026.jpg
CATEGORIES:Duurzaamheidsprofessionals
LOCATION:Terschelling\,  Longway 28 \, Terschelling\, Nederland
GEO:53.369386;5.217497
X-APPLE-STRUCTURED-LOCATION;VALUE=URI;X-ADDRESS= Longway 28 \, Terschelling
 \, Nederland;X-APPLE-RADIUS=100;X-TITLE=Terschelling:geo:53.369386,5.21749
 7
END:VEVENT
BEGIN:VTIMEZONE
TZID:Europe/Amsterdam
X-LIC-LOCATION:Europe/Amsterdam
BEGIN:DAYLIGHT
DTSTART:20260329T030000
TZOFFSETFROM:+0100
TZOFFSETTO:+0200
TZNAME:CEST
END:DAYLIGHT
END:VTIMEZONE
END:VCALENDAR