BEGIN:VCALENDAR
VERSION:2.0
PRODID:-//wp-events-plugin.com//7.2.3.1//EN
TZID:Europe/Amsterdam
X-WR-TIMEZONE:Europe/Amsterdam
BEGIN:VEVENT
UID:1996@duurzaam-ondernemen.nl
DTSTART;TZID=Europe/Amsterdam:20260310T100000
DTEND;TZID=Europe/Amsterdam:20260312T170000
DTSTAMP:20260217T135839Z
URL:https://www.duurzaam-ondernemen.nl/events/solar-solutions-amsterdam-20
 26/
SUMMARY:Solar Solutions Amsterdam 2026
DESCRIPTION:Solar Solutions Amsterdam: waar de sector samenkomt\n\nVan inno
 vatieve technologieën tot inspirerende expertsessies: Solar Solutions Ams
 terdam is het ontmoetingspunt voor professionals die de toekomst van herni
 euwbare energie mee vormgeven.\n\nOntmoet toonaangevende exposanten\, ontd
 ek de nieuwste innovaties op de Innovation Boulevard en leer van experts t
 ijdens boeiende seminars. Laat je inspireren door de ontwikkelingen uit de
  sector.\n\nBezoekers van deze website kunnen zich hier gratis registreren
 !\n\nMeer informatie/aanmelden
ATTACH;FMTTYPE=image/jpeg:https://www.duurzaam-ondernemen.nl/wordpress/wp-
 content/uploads/2026/02/solar-solutions-amsterdam.png
CATEGORIES:Klimaat en Energie
LOCATION:Expo Greater Amsterdam\, Stelling 1\, Vijfhuizen\, 2141 SB\, Neder
 land
GEO:52.34571;4.684415
X-APPLE-STRUCTURED-LOCATION;VALUE=URI;X-ADDRESS=Stelling 1\, Vijfhuizen\, 2
 141 SB\, Nederland;X-APPLE-RADIUS=100;X-TITLE=Expo Greater Amsterdam:geo:5
 2.34571,4.684415
END:VEVENT
BEGIN:VTIMEZONE
TZID:Europe/Amsterdam
X-LIC-LOCATION:Europe/Amsterdam
BEGIN:STANDARD
DTSTART:20251026T020000
TZOFFSETFROM:+0200
TZOFFSETTO:+0100
TZNAME:CET
END:STANDARD
END:VTIMEZONE
END:VCALENDAR